BEGIN:VCALENDAR
VERSION:2.0
PRODID:-//GL3 Community Hub - ECPv6.15.20//NONSGML v1.0//EN
CALSCALE:GREGORIAN
METHOD:PUBLISH
X-WR-CALNAME:GL3 Community Hub
X-ORIGINAL-URL:https://gl3communityhub.org.uk
X-WR-CALDESC:Events for GL3 Community Hub
REFRESH-INTERVAL;VALUE=DURATION:PT1H
X-Robots-Tag:noindex
X-PUBLISHED-TTL:PT1H
BEGIN:VTIMEZONE
TZID:Europe/London
BEGIN:DAYLIGHT
TZOFFSETFROM:+0000
TZOFFSETTO:+0100
TZNAME:BST
DTSTART:20250330T010000
END:DAYLIGHT
BEGIN:STANDARD
TZOFFSETFROM:+0100
TZOFFSETTO:+0000
TZNAME:GMT
DTSTART:20251026T010000
END:STANDARD
BEGIN:DAYLIGHT
TZOFFSETFROM:+0000
TZOFFSETTO:+0100
TZNAME:BST
DTSTART:20260329T010000
END:DAYLIGHT
BEGIN:STANDARD
TZOFFSETFROM:+0100
TZOFFSETTO:+0000
TZNAME:GMT
DTSTART:20261025T010000
END:STANDARD
BEGIN:DAYLIGHT
TZOFFSETFROM:+0000
TZOFFSETTO:+0100
TZNAME:BST
DTSTART:20270328T010000
END:DAYLIGHT
BEGIN:STANDARD
TZOFFSETFROM:+0100
TZOFFSETTO:+0000
TZNAME:GMT
DTSTART:20271031T010000
END:STANDARD
END:VTIMEZONE
BEGIN:VEVENT
DTSTART;TZID=Europe/London:20260421T094500
DTEND;TZID=Europe/London:20260421T104500
DTSTAMP:20260425T220913
CREATED:20260417T134455Z
LAST-MODIFIED:20260417T134514Z
UID:10003634-1776764700-1776768300@gl3communityhub.org.uk
SUMMARY:Fit for Life (Older Adults)
DESCRIPTION:Fit for Life (Older Adults)\nTuesday – Chair-Based Exercise – 9.45am – 10.45am\nFriday – 50+ Circuits – 10.00am – 11.00am
URL:https://gl3communityhub.org.uk/event/fit-for-life-older-adults-tue/2026-04-21/
LOCATION:GL3 Community Hub\, Cheltenham Road East\, Churchdown\, Gloucester\, GL3 1HX\, United Kingdom
CATEGORIES:Health, Fitness & Classes
END:VEVENT
BEGIN:VEVENT
DTSTART;TZID=Europe/London:20260420T201000
DTEND;TZID=Europe/London:20260420T220000
DTSTAMP:20260425T220913
CREATED:20260417T142357Z
LAST-MODIFIED:20260417T142357Z
UID:10006764-1776715800-1776722400@gl3communityhub.org.uk
SUMMARY:Volleyball Group
DESCRIPTION:Monday – Recreational Volleyball – 8.10pm – 10.00pm
URL:https://gl3communityhub.org.uk/event/volleyball-group/2026-04-20/
LOCATION:GL3 Community Hub\, Cheltenham Road East\, Churchdown\, Gloucester\, GL3 1HX\, United Kingdom
CATEGORIES:Sports & Activities
END:VEVENT
BEGIN:VEVENT
DTSTART;TZID=Europe/London:20260420T190000
DTEND;TZID=Europe/London:20260420T210000
DTSTAMP:20260425T220913
CREATED:20260417T132916Z
LAST-MODIFIED:20260417T132932Z
UID:10000262-1776711600-1776718800@gl3communityhub.org.uk
SUMMARY:Gloucestershire Gamblers Anonymous
DESCRIPTION:Monday (Except Bank Holidays) – Support Group – 7.00pm – 9.00pm\nThursday – Support Group – 7.30pm – 9.30pm
URL:https://gl3communityhub.org.uk/event/gloucestershire-gamblers-anonymous-monday/2026-04-20/
LOCATION:GL3 Community Hub\, Cheltenham Road East\, Churchdown\, Gloucester\, GL3 1HX\, United Kingdom
CATEGORIES:Support & Wellbeing
END:VEVENT
BEGIN:VEVENT
DTSTART;TZID=Europe/London:20260420T170000
DTEND;TZID=Europe/London:20260420T200000
DTSTAMP:20260425T220913
CREATED:20260417T142104Z
LAST-MODIFIED:20260417T142120Z
UID:10005720-1776704400-1776715200@gl3communityhub.org.uk
SUMMARY:Mixed Martial Arts
DESCRIPTION:Monday – Junior & Adult Training – 5.00pm – 8.00pm\nSaturday – Junior & Adult Training – 9.00am – 12.45pm
URL:https://gl3communityhub.org.uk/event/mixed-martial-arts-mon/2026-04-20/
LOCATION:GL3 Community Hub\, Cheltenham Road East\, Churchdown\, Gloucester\, GL3 1HX\, United Kingdom
CATEGORIES:Sports & Activities
END:VEVENT
BEGIN:VEVENT
DTSTART;TZID=Europe/London:20260420T090000
DTEND;TZID=Europe/London:20260420T160000
DTSTAMP:20260425T220913
CREATED:20260417T134205Z
LAST-MODIFIED:20260417T134205Z
UID:10003112-1776675600-1776700800@gl3communityhub.org.uk
SUMMARY:Tumble Tots
DESCRIPTION:Monday – Children’s Activity – 9.00am – 4.00pm \nThis is a recurring weekly activity that appears on the website every Monday. Please note that sessions only take place during school term time. The listing may still display during holidays due to its recurring nature\, but the activity will not be running outside of term time. 
URL:https://gl3communityhub.org.uk/event/tumble-tots/2026-04-20/
LOCATION:GL3 Community Hub\, Cheltenham Road East\, Churchdown\, Gloucester\, GL3 1HX\, United Kingdom
CATEGORIES:Family & Young People*
END:VEVENT
BEGIN:VEVENT
DTSTART;TZID=Europe/London:20260419T183000
DTEND;TZID=Europe/London:20260419T203000
DTSTAMP:20260425T220913
CREATED:20260417T133214Z
LAST-MODIFIED:20260417T133214Z
UID:10001045-1776623400-1776630600@gl3communityhub.org.uk
SUMMARY:Alcoholics Anonymous
DESCRIPTION:Sunday – Support Group – 6.30pm – 8.30pm
URL:https://gl3communityhub.org.uk/event/alcoholics-anonymous/2026-04-19/
LOCATION:GL3 Community Hub\, Cheltenham Road East\, Churchdown\, Gloucester\, GL3 1HX\, United Kingdom
CATEGORIES:Support & Wellbeing
END:VEVENT
BEGIN:VEVENT
DTSTART;TZID=Europe/London:20260419T083000
DTEND;TZID=Europe/London:20260419T120000
DTSTAMP:20260425T220913
CREATED:20260417T134903Z
LAST-MODIFIED:20260417T140039Z
UID:10005459-1776587400-1776600000@gl3communityhub.org.uk
SUMMARY:Superstrikers Sunday
DESCRIPTION:Thursday – Children’s Football – 5.00pm – 6.00pm\nFriday – Children’s Football – 1.45pm – 2.30pm\nSunday – Children’s Football – 8.30am – 12.00pm \nThis is a recurring weekly activity. Please note that sessions only take place during school term time. The listing may still be displayed during holidays due to its recurring nature\, but the activity will not be running outside of term time. 
URL:https://gl3communityhub.org.uk/event/superstrikers-sunday/2026-04-19/
LOCATION:GL3 Community Hub\, Cheltenham Road East\, Churchdown\, Gloucester\, GL3 1HX\, United Kingdom
CATEGORIES:Family & Young People*
END:VEVENT
BEGIN:VEVENT
DTSTART;TZID=Europe/London:20260418T093000
DTEND;TZID=Europe/London:20260418T101500
DTSTAMP:20260425T220913
CREATED:20260417T150611Z
LAST-MODIFIED:20260417T151320Z
UID:10010678-1776504600-1776507300@gl3communityhub.org.uk
SUMMARY:Cath’s Classes - Dance Fitness
DESCRIPTION:Tuesday – Dance Fitness Gold (Gentle) – 11.00am – 11.45am\nTuesday – Dance Fitness – 6.15pm – 7.00pm\nTuesday – Stretch\, Tone & Mobilise – 7.15pm – 8.00pm\nThursday – Dance Fitness Gold (Gentle) – 10.00am – 10.45am\nThursday – Dance Fitness – 6.00pm – 7.00pm\nThursday – Stretch\, Tone & Mobilise – 7.15pm – 8.00pm\nSaturday – Dance Fitness – 9.30am – 10.15am
URL:https://gl3communityhub.org.uk/event/caths-classes-dance-fitness-sat/2026-04-18/
CATEGORIES:Health, Fitness & Classes
END:VEVENT
BEGIN:VEVENT
DTSTART;TZID=Europe/London:20260418T090000
DTEND;TZID=Europe/London:20260418T124500
DTSTAMP:20260425T220913
CREATED:20260417T142125Z
LAST-MODIFIED:20260417T142227Z
UID:10006242-1776502800-1776516300@gl3communityhub.org.uk
SUMMARY:Mixed Martial Arts
DESCRIPTION:Monday – Junior & Adult Training – 5.00pm – 8.00pm\nSaturday – Junior & Adult Training – 9.00am – 12.45pm
URL:https://gl3communityhub.org.uk/event/mixed-martial-arts-sat/2026-04-18/
LOCATION:GL3 Community Hub\, Cheltenham Road East\, Churchdown\, Gloucester\, GL3 1HX\, United Kingdom
CATEGORIES:Sports & Activities
END:VEVENT
BEGIN:VEVENT
DTSTART;TZID=Europe/London:20260417T170000
DTEND;TZID=Europe/London:20260417T190000
DTSTAMP:20260425T220913
CREATED:20260417T134250Z
LAST-MODIFIED:20260417T134319Z
UID:10003373-1776445200-1776452400@gl3communityhub.org.uk
SUMMARY:Youth Club (9–13 yrs)
DESCRIPTION:Friday – Youth Session – 5.00pm – 7.00pm \nThis is a recurring weekly activity that appears on the website every Friday. Please note that sessions only take place during school term time. The listing may still be displayed during holidays due to its recurring nature\, but the activity will not be running outside of term time. 
URL:https://gl3communityhub.org.uk/event/youth-club-9-13-yrs/2026-04-17/
LOCATION:GL3 Community Hub\, Cheltenham Road East\, Churchdown\, Gloucester\, GL3 1HX\, United Kingdom
CATEGORIES:Family & Young People*
END:VEVENT
END:VCALENDAR