BEGIN:VCALENDAR
VERSION:2.0
PRODID:-//GL3 Community Hub - ECPv6.15.20//NONSGML v1.0//EN
CALSCALE:GREGORIAN
METHOD:PUBLISH
X-ORIGINAL-URL:https://gl3communityhub.org.uk
X-WR-CALDESC:Events for GL3 Community Hub
REFRESH-INTERVAL;VALUE=DURATION:PT1H
X-Robots-Tag:noindex
X-PUBLISHED-TTL:PT1H
BEGIN:VTIMEZONE
TZID:Europe/London
BEGIN:DAYLIGHT
TZOFFSETFROM:+0000
TZOFFSETTO:+0100
TZNAME:BST
DTSTART:20250330T010000
END:DAYLIGHT
BEGIN:STANDARD
TZOFFSETFROM:+0100
TZOFFSETTO:+0000
TZNAME:GMT
DTSTART:20251026T010000
END:STANDARD
BEGIN:DAYLIGHT
TZOFFSETFROM:+0000
TZOFFSETTO:+0100
TZNAME:BST
DTSTART:20260329T010000
END:DAYLIGHT
BEGIN:STANDARD
TZOFFSETFROM:+0100
TZOFFSETTO:+0000
TZNAME:GMT
DTSTART:20261025T010000
END:STANDARD
BEGIN:DAYLIGHT
TZOFFSETFROM:+0000
TZOFFSETTO:+0100
TZNAME:BST
DTSTART:20270328T010000
END:DAYLIGHT
BEGIN:STANDARD
TZOFFSETFROM:+0100
TZOFFSETTO:+0000
TZNAME:GMT
DTSTART:20271031T010000
END:STANDARD
END:VTIMEZONE
BEGIN:VEVENT
DTSTART;TZID=Europe/London:20260606T090000
DTEND;TZID=Europe/London:20260606T124500
DTSTAMP:20260425T112335
CREATED:20260417T142125Z
LAST-MODIFIED:20260417T142227Z
UID:10006249-1780736400-1780749900@gl3communityhub.org.uk
SUMMARY:Mixed Martial Arts
DESCRIPTION:Monday – Junior & Adult Training – 5.00pm – 8.00pm\nSaturday – Junior & Adult Training – 9.00am – 12.45pm
URL:https://gl3communityhub.org.uk/event/mixed-martial-arts-sat/2026-06-06/
LOCATION:GL3 Community Hub\, Cheltenham Road East\, Churchdown\, Gloucester\, GL3 1HX\, United Kingdom
CATEGORIES:Sports & Activities
END:VEVENT
BEGIN:VEVENT
DTSTART;TZID=Europe/London:20260608T170000
DTEND;TZID=Europe/London:20260608T200000
DTSTAMP:20260425T112335
CREATED:20260417T142104Z
LAST-MODIFIED:20260417T142120Z
UID:10005727-1780938000-1780948800@gl3communityhub.org.uk
SUMMARY:Mixed Martial Arts
DESCRIPTION:Monday – Junior & Adult Training – 5.00pm – 8.00pm\nSaturday – Junior & Adult Training – 9.00am – 12.45pm
URL:https://gl3communityhub.org.uk/event/mixed-martial-arts-mon/2026-06-08/
LOCATION:GL3 Community Hub\, Cheltenham Road East\, Churchdown\, Gloucester\, GL3 1HX\, United Kingdom
CATEGORIES:Sports & Activities
END:VEVENT
BEGIN:VEVENT
DTSTART;TZID=Europe/London:20260613T090000
DTEND;TZID=Europe/London:20260613T124500
DTSTAMP:20260425T112335
CREATED:20260417T142125Z
LAST-MODIFIED:20260417T142227Z
UID:10006250-1781341200-1781354700@gl3communityhub.org.uk
SUMMARY:Mixed Martial Arts
DESCRIPTION:Monday – Junior & Adult Training – 5.00pm – 8.00pm\nSaturday – Junior & Adult Training – 9.00am – 12.45pm
URL:https://gl3communityhub.org.uk/event/mixed-martial-arts-sat/2026-06-13/
LOCATION:GL3 Community Hub\, Cheltenham Road East\, Churchdown\, Gloucester\, GL3 1HX\, United Kingdom
CATEGORIES:Sports & Activities
END:VEVENT
BEGIN:VEVENT
DTSTART;TZID=Europe/London:20260615T170000
DTEND;TZID=Europe/London:20260615T200000
DTSTAMP:20260425T112335
CREATED:20260417T142104Z
LAST-MODIFIED:20260417T142120Z
UID:10005728-1781542800-1781553600@gl3communityhub.org.uk
SUMMARY:Mixed Martial Arts
DESCRIPTION:Monday – Junior & Adult Training – 5.00pm – 8.00pm\nSaturday – Junior & Adult Training – 9.00am – 12.45pm
URL:https://gl3communityhub.org.uk/event/mixed-martial-arts-mon/2026-06-15/
LOCATION:GL3 Community Hub\, Cheltenham Road East\, Churchdown\, Gloucester\, GL3 1HX\, United Kingdom
CATEGORIES:Sports & Activities
END:VEVENT
BEGIN:VEVENT
DTSTART;TZID=Europe/London:20260620T090000
DTEND;TZID=Europe/London:20260620T124500
DTSTAMP:20260425T112335
CREATED:20260417T142125Z
LAST-MODIFIED:20260417T142227Z
UID:10006251-1781946000-1781959500@gl3communityhub.org.uk
SUMMARY:Mixed Martial Arts
DESCRIPTION:Monday – Junior & Adult Training – 5.00pm – 8.00pm\nSaturday – Junior & Adult Training – 9.00am – 12.45pm
URL:https://gl3communityhub.org.uk/event/mixed-martial-arts-sat/2026-06-20/
LOCATION:GL3 Community Hub\, Cheltenham Road East\, Churchdown\, Gloucester\, GL3 1HX\, United Kingdom
CATEGORIES:Sports & Activities
END:VEVENT
BEGIN:VEVENT
DTSTART;TZID=Europe/London:20260622T170000
DTEND;TZID=Europe/London:20260622T200000
DTSTAMP:20260425T112335
CREATED:20260417T142104Z
LAST-MODIFIED:20260417T142120Z
UID:10005729-1782147600-1782158400@gl3communityhub.org.uk
SUMMARY:Mixed Martial Arts
DESCRIPTION:Monday – Junior & Adult Training – 5.00pm – 8.00pm\nSaturday – Junior & Adult Training – 9.00am – 12.45pm
URL:https://gl3communityhub.org.uk/event/mixed-martial-arts-mon/2026-06-22/
LOCATION:GL3 Community Hub\, Cheltenham Road East\, Churchdown\, Gloucester\, GL3 1HX\, United Kingdom
CATEGORIES:Sports & Activities
END:VEVENT
BEGIN:VEVENT
DTSTART;TZID=Europe/London:20260627T090000
DTEND;TZID=Europe/London:20260627T124500
DTSTAMP:20260425T112335
CREATED:20260417T142125Z
LAST-MODIFIED:20260417T142227Z
UID:10006252-1782550800-1782564300@gl3communityhub.org.uk
SUMMARY:Mixed Martial Arts
DESCRIPTION:Monday – Junior & Adult Training – 5.00pm – 8.00pm\nSaturday – Junior & Adult Training – 9.00am – 12.45pm
URL:https://gl3communityhub.org.uk/event/mixed-martial-arts-sat/2026-06-27/
LOCATION:GL3 Community Hub\, Cheltenham Road East\, Churchdown\, Gloucester\, GL3 1HX\, United Kingdom
CATEGORIES:Sports & Activities
END:VEVENT
BEGIN:VEVENT
DTSTART;TZID=Europe/London:20260629T170000
DTEND;TZID=Europe/London:20260629T200000
DTSTAMP:20260425T112335
CREATED:20260417T142104Z
LAST-MODIFIED:20260417T142120Z
UID:10005730-1782752400-1782763200@gl3communityhub.org.uk
SUMMARY:Mixed Martial Arts
DESCRIPTION:Monday – Junior & Adult Training – 5.00pm – 8.00pm\nSaturday – Junior & Adult Training – 9.00am – 12.45pm
URL:https://gl3communityhub.org.uk/event/mixed-martial-arts-mon/2026-06-29/
LOCATION:GL3 Community Hub\, Cheltenham Road East\, Churchdown\, Gloucester\, GL3 1HX\, United Kingdom
CATEGORIES:Sports & Activities
END:VEVENT
BEGIN:VEVENT
DTSTART;TZID=Europe/London:20260704T090000
DTEND;TZID=Europe/London:20260704T124500
DTSTAMP:20260425T112335
CREATED:20260417T142125Z
LAST-MODIFIED:20260417T142227Z
UID:10006253-1783155600-1783169100@gl3communityhub.org.uk
SUMMARY:Mixed Martial Arts
DESCRIPTION:Monday – Junior & Adult Training – 5.00pm – 8.00pm\nSaturday – Junior & Adult Training – 9.00am – 12.45pm
URL:https://gl3communityhub.org.uk/event/mixed-martial-arts-sat/2026-07-04/
LOCATION:GL3 Community Hub\, Cheltenham Road East\, Churchdown\, Gloucester\, GL3 1HX\, United Kingdom
CATEGORIES:Sports & Activities
END:VEVENT
BEGIN:VEVENT
DTSTART;TZID=Europe/London:20260706T170000
DTEND;TZID=Europe/London:20260706T200000
DTSTAMP:20260425T112335
CREATED:20260417T142104Z
LAST-MODIFIED:20260417T142120Z
UID:10005731-1783357200-1783368000@gl3communityhub.org.uk
SUMMARY:Mixed Martial Arts
DESCRIPTION:Monday – Junior & Adult Training – 5.00pm – 8.00pm\nSaturday – Junior & Adult Training – 9.00am – 12.45pm
URL:https://gl3communityhub.org.uk/event/mixed-martial-arts-mon/2026-07-06/
LOCATION:GL3 Community Hub\, Cheltenham Road East\, Churchdown\, Gloucester\, GL3 1HX\, United Kingdom
CATEGORIES:Sports & Activities
END:VEVENT
BEGIN:VEVENT
DTSTART;TZID=Europe/London:20260711T090000
DTEND;TZID=Europe/London:20260711T124500
DTSTAMP:20260425T112335
CREATED:20260417T142125Z
LAST-MODIFIED:20260417T142227Z
UID:10006254-1783760400-1783773900@gl3communityhub.org.uk
SUMMARY:Mixed Martial Arts
DESCRIPTION:Monday – Junior & Adult Training – 5.00pm – 8.00pm\nSaturday – Junior & Adult Training – 9.00am – 12.45pm
URL:https://gl3communityhub.org.uk/event/mixed-martial-arts-sat/2026-07-11/
LOCATION:GL3 Community Hub\, Cheltenham Road East\, Churchdown\, Gloucester\, GL3 1HX\, United Kingdom
CATEGORIES:Sports & Activities
END:VEVENT
BEGIN:VEVENT
DTSTART;TZID=Europe/London:20260713T170000
DTEND;TZID=Europe/London:20260713T200000
DTSTAMP:20260425T112335
CREATED:20260417T142104Z
LAST-MODIFIED:20260417T142120Z
UID:10005732-1783962000-1783972800@gl3communityhub.org.uk
SUMMARY:Mixed Martial Arts
DESCRIPTION:Monday – Junior & Adult Training – 5.00pm – 8.00pm\nSaturday – Junior & Adult Training – 9.00am – 12.45pm
URL:https://gl3communityhub.org.uk/event/mixed-martial-arts-mon/2026-07-13/
LOCATION:GL3 Community Hub\, Cheltenham Road East\, Churchdown\, Gloucester\, GL3 1HX\, United Kingdom
CATEGORIES:Sports & Activities
END:VEVENT
BEGIN:VEVENT
DTSTART;TZID=Europe/London:20260718T090000
DTEND;TZID=Europe/London:20260718T124500
DTSTAMP:20260425T112335
CREATED:20260417T142125Z
LAST-MODIFIED:20260417T142227Z
UID:10006255-1784365200-1784378700@gl3communityhub.org.uk
SUMMARY:Mixed Martial Arts
DESCRIPTION:Monday – Junior & Adult Training – 5.00pm – 8.00pm\nSaturday – Junior & Adult Training – 9.00am – 12.45pm
URL:https://gl3communityhub.org.uk/event/mixed-martial-arts-sat/2026-07-18/
LOCATION:GL3 Community Hub\, Cheltenham Road East\, Churchdown\, Gloucester\, GL3 1HX\, United Kingdom
CATEGORIES:Sports & Activities
END:VEVENT
BEGIN:VEVENT
DTSTART;TZID=Europe/London:20260720T170000
DTEND;TZID=Europe/London:20260720T200000
DTSTAMP:20260425T112335
CREATED:20260417T142104Z
LAST-MODIFIED:20260417T142120Z
UID:10005733-1784566800-1784577600@gl3communityhub.org.uk
SUMMARY:Mixed Martial Arts
DESCRIPTION:Monday – Junior & Adult Training – 5.00pm – 8.00pm\nSaturday – Junior & Adult Training – 9.00am – 12.45pm
URL:https://gl3communityhub.org.uk/event/mixed-martial-arts-mon/2026-07-20/
LOCATION:GL3 Community Hub\, Cheltenham Road East\, Churchdown\, Gloucester\, GL3 1HX\, United Kingdom
CATEGORIES:Sports & Activities
END:VEVENT
BEGIN:VEVENT
DTSTART;TZID=Europe/London:20260725T090000
DTEND;TZID=Europe/London:20260725T124500
DTSTAMP:20260425T112335
CREATED:20260417T142125Z
LAST-MODIFIED:20260417T142227Z
UID:10006256-1784970000-1784983500@gl3communityhub.org.uk
SUMMARY:Mixed Martial Arts
DESCRIPTION:Monday – Junior & Adult Training – 5.00pm – 8.00pm\nSaturday – Junior & Adult Training – 9.00am – 12.45pm
URL:https://gl3communityhub.org.uk/event/mixed-martial-arts-sat/2026-07-25/
LOCATION:GL3 Community Hub\, Cheltenham Road East\, Churchdown\, Gloucester\, GL3 1HX\, United Kingdom
CATEGORIES:Sports & Activities
END:VEVENT
BEGIN:VEVENT
DTSTART;TZID=Europe/London:20260727T170000
DTEND;TZID=Europe/London:20260727T200000
DTSTAMP:20260425T112335
CREATED:20260417T142104Z
LAST-MODIFIED:20260417T142120Z
UID:10005734-1785171600-1785182400@gl3communityhub.org.uk
SUMMARY:Mixed Martial Arts
DESCRIPTION:Monday – Junior & Adult Training – 5.00pm – 8.00pm\nSaturday – Junior & Adult Training – 9.00am – 12.45pm
URL:https://gl3communityhub.org.uk/event/mixed-martial-arts-mon/2026-07-27/
LOCATION:GL3 Community Hub\, Cheltenham Road East\, Churchdown\, Gloucester\, GL3 1HX\, United Kingdom
CATEGORIES:Sports & Activities
END:VEVENT
BEGIN:VEVENT
DTSTART;TZID=Europe/London:20260801T090000
DTEND;TZID=Europe/London:20260801T124500
DTSTAMP:20260425T112335
CREATED:20260417T142125Z
LAST-MODIFIED:20260417T142227Z
UID:10006257-1785574800-1785588300@gl3communityhub.org.uk
SUMMARY:Mixed Martial Arts
DESCRIPTION:Monday – Junior & Adult Training – 5.00pm – 8.00pm\nSaturday – Junior & Adult Training – 9.00am – 12.45pm
URL:https://gl3communityhub.org.uk/event/mixed-martial-arts-sat/2026-08-01/
LOCATION:GL3 Community Hub\, Cheltenham Road East\, Churchdown\, Gloucester\, GL3 1HX\, United Kingdom
CATEGORIES:Sports & Activities
END:VEVENT
BEGIN:VEVENT
DTSTART;TZID=Europe/London:20260803T170000
DTEND;TZID=Europe/London:20260803T200000
DTSTAMP:20260425T112335
CREATED:20260417T142104Z
LAST-MODIFIED:20260417T142120Z
UID:10005735-1785776400-1785787200@gl3communityhub.org.uk
SUMMARY:Mixed Martial Arts
DESCRIPTION:Monday – Junior & Adult Training – 5.00pm – 8.00pm\nSaturday – Junior & Adult Training – 9.00am – 12.45pm
URL:https://gl3communityhub.org.uk/event/mixed-martial-arts-mon/2026-08-03/
LOCATION:GL3 Community Hub\, Cheltenham Road East\, Churchdown\, Gloucester\, GL3 1HX\, United Kingdom
CATEGORIES:Sports & Activities
END:VEVENT
BEGIN:VEVENT
DTSTART;TZID=Europe/London:20260808T090000
DTEND;TZID=Europe/London:20260808T124500
DTSTAMP:20260425T112335
CREATED:20260417T142125Z
LAST-MODIFIED:20260417T142227Z
UID:10006258-1786179600-1786193100@gl3communityhub.org.uk
SUMMARY:Mixed Martial Arts
DESCRIPTION:Monday – Junior & Adult Training – 5.00pm – 8.00pm\nSaturday – Junior & Adult Training – 9.00am – 12.45pm
URL:https://gl3communityhub.org.uk/event/mixed-martial-arts-sat/2026-08-08/
LOCATION:GL3 Community Hub\, Cheltenham Road East\, Churchdown\, Gloucester\, GL3 1HX\, United Kingdom
CATEGORIES:Sports & Activities
END:VEVENT
BEGIN:VEVENT
DTSTART;TZID=Europe/London:20260810T170000
DTEND;TZID=Europe/London:20260810T200000
DTSTAMP:20260425T112335
CREATED:20260417T142104Z
LAST-MODIFIED:20260417T142120Z
UID:10005736-1786381200-1786392000@gl3communityhub.org.uk
SUMMARY:Mixed Martial Arts
DESCRIPTION:Monday – Junior & Adult Training – 5.00pm – 8.00pm\nSaturday – Junior & Adult Training – 9.00am – 12.45pm
URL:https://gl3communityhub.org.uk/event/mixed-martial-arts-mon/2026-08-10/
LOCATION:GL3 Community Hub\, Cheltenham Road East\, Churchdown\, Gloucester\, GL3 1HX\, United Kingdom
CATEGORIES:Sports & Activities
END:VEVENT
BEGIN:VEVENT
DTSTART;TZID=Europe/London:20260815T090000
DTEND;TZID=Europe/London:20260815T124500
DTSTAMP:20260425T112335
CREATED:20260417T142125Z
LAST-MODIFIED:20260417T142227Z
UID:10006259-1786784400-1786797900@gl3communityhub.org.uk
SUMMARY:Mixed Martial Arts
DESCRIPTION:Monday – Junior & Adult Training – 5.00pm – 8.00pm\nSaturday – Junior & Adult Training – 9.00am – 12.45pm
URL:https://gl3communityhub.org.uk/event/mixed-martial-arts-sat/2026-08-15/
LOCATION:GL3 Community Hub\, Cheltenham Road East\, Churchdown\, Gloucester\, GL3 1HX\, United Kingdom
CATEGORIES:Sports & Activities
END:VEVENT
BEGIN:VEVENT
DTSTART;TZID=Europe/London:20260817T170000
DTEND;TZID=Europe/London:20260817T200000
DTSTAMP:20260425T112335
CREATED:20260417T142104Z
LAST-MODIFIED:20260417T142120Z
UID:10005737-1786986000-1786996800@gl3communityhub.org.uk
SUMMARY:Mixed Martial Arts
DESCRIPTION:Monday – Junior & Adult Training – 5.00pm – 8.00pm\nSaturday – Junior & Adult Training – 9.00am – 12.45pm
URL:https://gl3communityhub.org.uk/event/mixed-martial-arts-mon/2026-08-17/
LOCATION:GL3 Community Hub\, Cheltenham Road East\, Churchdown\, Gloucester\, GL3 1HX\, United Kingdom
CATEGORIES:Sports & Activities
END:VEVENT
BEGIN:VEVENT
DTSTART;TZID=Europe/London:20260822T090000
DTEND;TZID=Europe/London:20260822T124500
DTSTAMP:20260425T112335
CREATED:20260417T142125Z
LAST-MODIFIED:20260417T142227Z
UID:10006260-1787389200-1787402700@gl3communityhub.org.uk
SUMMARY:Mixed Martial Arts
DESCRIPTION:Monday – Junior & Adult Training – 5.00pm – 8.00pm\nSaturday – Junior & Adult Training – 9.00am – 12.45pm
URL:https://gl3communityhub.org.uk/event/mixed-martial-arts-sat/2026-08-22/
LOCATION:GL3 Community Hub\, Cheltenham Road East\, Churchdown\, Gloucester\, GL3 1HX\, United Kingdom
CATEGORIES:Sports & Activities
END:VEVENT
BEGIN:VEVENT
DTSTART;TZID=Europe/London:20260824T170000
DTEND;TZID=Europe/London:20260824T200000
DTSTAMP:20260425T112335
CREATED:20260417T142104Z
LAST-MODIFIED:20260417T142120Z
UID:10005738-1787590800-1787601600@gl3communityhub.org.uk
SUMMARY:Mixed Martial Arts
DESCRIPTION:Monday – Junior & Adult Training – 5.00pm – 8.00pm\nSaturday – Junior & Adult Training – 9.00am – 12.45pm
URL:https://gl3communityhub.org.uk/event/mixed-martial-arts-mon/2026-08-24/
LOCATION:GL3 Community Hub\, Cheltenham Road East\, Churchdown\, Gloucester\, GL3 1HX\, United Kingdom
CATEGORIES:Sports & Activities
END:VEVENT
BEGIN:VEVENT
DTSTART;TZID=Europe/London:20260829T090000
DTEND;TZID=Europe/London:20260829T124500
DTSTAMP:20260425T112335
CREATED:20260417T142125Z
LAST-MODIFIED:20260417T142227Z
UID:10006261-1787994000-1788007500@gl3communityhub.org.uk
SUMMARY:Mixed Martial Arts
DESCRIPTION:Monday – Junior & Adult Training – 5.00pm – 8.00pm\nSaturday – Junior & Adult Training – 9.00am – 12.45pm
URL:https://gl3communityhub.org.uk/event/mixed-martial-arts-sat/2026-08-29/
LOCATION:GL3 Community Hub\, Cheltenham Road East\, Churchdown\, Gloucester\, GL3 1HX\, United Kingdom
CATEGORIES:Sports & Activities
END:VEVENT
BEGIN:VEVENT
DTSTART;TZID=Europe/London:20260831T170000
DTEND;TZID=Europe/London:20260831T200000
DTSTAMP:20260425T112335
CREATED:20260417T142104Z
LAST-MODIFIED:20260417T142120Z
UID:10005739-1788195600-1788206400@gl3communityhub.org.uk
SUMMARY:Mixed Martial Arts
DESCRIPTION:Monday – Junior & Adult Training – 5.00pm – 8.00pm\nSaturday – Junior & Adult Training – 9.00am – 12.45pm
URL:https://gl3communityhub.org.uk/event/mixed-martial-arts-mon/2026-08-31/
LOCATION:GL3 Community Hub\, Cheltenham Road East\, Churchdown\, Gloucester\, GL3 1HX\, United Kingdom
CATEGORIES:Sports & Activities
END:VEVENT
BEGIN:VEVENT
DTSTART;TZID=Europe/London:20260905T090000
DTEND;TZID=Europe/London:20260905T124500
DTSTAMP:20260425T112335
CREATED:20260417T142125Z
LAST-MODIFIED:20260417T142227Z
UID:10006262-1788598800-1788612300@gl3communityhub.org.uk
SUMMARY:Mixed Martial Arts
DESCRIPTION:Monday – Junior & Adult Training – 5.00pm – 8.00pm\nSaturday – Junior & Adult Training – 9.00am – 12.45pm
URL:https://gl3communityhub.org.uk/event/mixed-martial-arts-sat/2026-09-05/
LOCATION:GL3 Community Hub\, Cheltenham Road East\, Churchdown\, Gloucester\, GL3 1HX\, United Kingdom
CATEGORIES:Sports & Activities
END:VEVENT
BEGIN:VEVENT
DTSTART;TZID=Europe/London:20260907T170000
DTEND;TZID=Europe/London:20260907T200000
DTSTAMP:20260425T112335
CREATED:20260417T142104Z
LAST-MODIFIED:20260417T142120Z
UID:10005740-1788800400-1788811200@gl3communityhub.org.uk
SUMMARY:Mixed Martial Arts
DESCRIPTION:Monday – Junior & Adult Training – 5.00pm – 8.00pm\nSaturday – Junior & Adult Training – 9.00am – 12.45pm
URL:https://gl3communityhub.org.uk/event/mixed-martial-arts-mon/2026-09-07/
LOCATION:GL3 Community Hub\, Cheltenham Road East\, Churchdown\, Gloucester\, GL3 1HX\, United Kingdom
CATEGORIES:Sports & Activities
END:VEVENT
BEGIN:VEVENT
DTSTART;TZID=Europe/London:20260912T090000
DTEND;TZID=Europe/London:20260912T124500
DTSTAMP:20260425T112335
CREATED:20260417T142125Z
LAST-MODIFIED:20260417T142227Z
UID:10006263-1789203600-1789217100@gl3communityhub.org.uk
SUMMARY:Mixed Martial Arts
DESCRIPTION:Monday – Junior & Adult Training – 5.00pm – 8.00pm\nSaturday – Junior & Adult Training – 9.00am – 12.45pm
URL:https://gl3communityhub.org.uk/event/mixed-martial-arts-sat/2026-09-12/
LOCATION:GL3 Community Hub\, Cheltenham Road East\, Churchdown\, Gloucester\, GL3 1HX\, United Kingdom
CATEGORIES:Sports & Activities
END:VEVENT
BEGIN:VEVENT
DTSTART;TZID=Europe/London:20260914T170000
DTEND;TZID=Europe/London:20260914T200000
DTSTAMP:20260425T112335
CREATED:20260417T142104Z
LAST-MODIFIED:20260417T142120Z
UID:10005741-1789405200-1789416000@gl3communityhub.org.uk
SUMMARY:Mixed Martial Arts
DESCRIPTION:Monday – Junior & Adult Training – 5.00pm – 8.00pm\nSaturday – Junior & Adult Training – 9.00am – 12.45pm
URL:https://gl3communityhub.org.uk/event/mixed-martial-arts-mon/2026-09-14/
LOCATION:GL3 Community Hub\, Cheltenham Road East\, Churchdown\, Gloucester\, GL3 1HX\, United Kingdom
CATEGORIES:Sports & Activities
END:VEVENT
END:VCALENDAR