BEGIN:VCALENDAR
VERSION:2.0
PRODID:-//GL3 Community Hub - ECPv6.15.20//NONSGML v1.0//EN
CALSCALE:GREGORIAN
METHOD:PUBLISH
X-ORIGINAL-URL:https://gl3communityhub.org.uk
X-WR-CALDESC:Events for GL3 Community Hub
REFRESH-INTERVAL;VALUE=DURATION:PT1H
X-Robots-Tag:noindex
X-PUBLISHED-TTL:PT1H
BEGIN:VTIMEZONE
TZID:Europe/London
BEGIN:DAYLIGHT
TZOFFSETFROM:+0000
TZOFFSETTO:+0100
TZNAME:BST
DTSTART:20250330T010000
END:DAYLIGHT
BEGIN:STANDARD
TZOFFSETFROM:+0100
TZOFFSETTO:+0000
TZNAME:GMT
DTSTART:20251026T010000
END:STANDARD
BEGIN:DAYLIGHT
TZOFFSETFROM:+0000
TZOFFSETTO:+0100
TZNAME:BST
DTSTART:20260329T010000
END:DAYLIGHT
BEGIN:STANDARD
TZOFFSETFROM:+0100
TZOFFSETTO:+0000
TZNAME:GMT
DTSTART:20261025T010000
END:STANDARD
BEGIN:DAYLIGHT
TZOFFSETFROM:+0000
TZOFFSETTO:+0100
TZNAME:BST
DTSTART:20270328T010000
END:DAYLIGHT
BEGIN:STANDARD
TZOFFSETFROM:+0100
TZOFFSETTO:+0000
TZNAME:GMT
DTSTART:20271031T010000
END:STANDARD
END:VTIMEZONE
BEGIN:VEVENT
DTSTART;TZID=Europe/London:20260506T190000
DTEND;TZID=Europe/London:20260506T213000
DTSTAMP:20260421T233936
CREATED:20260417T131439Z
LAST-MODIFIED:20260417T131439Z
UID:10000003-1778094000-1778103000@gl3communityhub.org.uk
SUMMARY:Man Down – Men’s Mental Health Group
DESCRIPTION:
URL:https://gl3communityhub.org.uk/event/man-down-mens-mental-health-group/2026-05-06/
CATEGORIES:Support & Wellbeing
END:VEVENT
BEGIN:VEVENT
DTSTART;TZID=Europe/London:20260507T100000
DTEND;TZID=Europe/London:20260507T120000
DTSTAMP:20260421T233936
CREATED:20260417T133330Z
LAST-MODIFIED:20260417T133330Z
UID:10001569-1778148000-1778155200@gl3communityhub.org.uk
SUMMARY:Bromford Housing Drop-In
DESCRIPTION:Thursday – Housing Advice – 10.00am – 12.00pm
URL:https://gl3communityhub.org.uk/event/bromford-housing-drop-in/2026-05-07/
LOCATION:GL3 Community Hub\, Cheltenham Road East\, Churchdown\, Gloucester\, GL3 1HX\, United Kingdom
CATEGORIES:Support & Wellbeing
END:VEVENT
BEGIN:VEVENT
DTSTART;TZID=Europe/London:20260507T110000
DTEND;TZID=Europe/London:20260507T130000
DTSTAMP:20260421T233936
CREATED:20260417T133247Z
LAST-MODIFIED:20260417T133247Z
UID:10001308-1778151600-1778158800@gl3communityhub.org.uk
SUMMARY:Hungry No More Foodbank
DESCRIPTION:Thursday – Food Support (Assessment Required) – 11.00am – 1.00pm
URL:https://gl3communityhub.org.uk/event/hungry-no-more-foodbank/2026-05-07/
LOCATION:GL3 Community Hub\, Cheltenham Road East\, Churchdown\, Gloucester\, GL3 1HX\, United Kingdom
CATEGORIES:Support & Wellbeing
END:VEVENT
BEGIN:VEVENT
DTSTART;TZID=Europe/London:20260507T140000
DTEND;TZID=Europe/London:20260507T160000
DTSTAMP:20260421T233936
CREATED:20260417T133753Z
LAST-MODIFIED:20260417T133753Z
UID:10002269-1778162400-1778169600@gl3communityhub.org.uk
SUMMARY:First Thursday Group
DESCRIPTION:Thursday (1st) – Social Group (Older Adults) – 2.00pm – 4.00pm
URL:https://gl3communityhub.org.uk/event/first-thursday-group/2026-05-07/
LOCATION:GL3 Community Hub\, Cheltenham Road East\, Churchdown\, Gloucester\, GL3 1HX\, United Kingdom
CATEGORIES:Support & Wellbeing
END:VEVENT
BEGIN:VEVENT
DTSTART;TZID=Europe/London:20260507T193000
DTEND;TZID=Europe/London:20260507T213000
DTSTAMP:20260421T233936
CREATED:20260417T133001Z
LAST-MODIFIED:20260417T133042Z
UID:10000786-1778182200-1778189400@gl3communityhub.org.uk
SUMMARY:Gloucestershire Gamblers Anonymous
DESCRIPTION:Monday (Except Bank Holidays) – Support Group – 7.00pm – 9.00pm\nThursday – Support Group – 7.30pm – 9.30pm
URL:https://gl3communityhub.org.uk/event/gloucestershire-gamblers-anonymous-thursday/2026-05-07/
LOCATION:GL3 Community Hub\, Cheltenham Road East\, Churchdown\, Gloucester\, GL3 1HX\, United Kingdom
CATEGORIES:Support & Wellbeing
END:VEVENT
BEGIN:VEVENT
DTSTART;TZID=Europe/London:20260510T183000
DTEND;TZID=Europe/London:20260510T203000
DTSTAMP:20260421T233936
CREATED:20260417T133214Z
LAST-MODIFIED:20260417T133214Z
UID:10001048-1778437800-1778445000@gl3communityhub.org.uk
SUMMARY:Alcoholics Anonymous
DESCRIPTION:Sunday – Support Group – 6.30pm – 8.30pm
URL:https://gl3communityhub.org.uk/event/alcoholics-anonymous/2026-05-10/
LOCATION:GL3 Community Hub\, Cheltenham Road East\, Churchdown\, Gloucester\, GL3 1HX\, United Kingdom
CATEGORIES:Support & Wellbeing
END:VEVENT
BEGIN:VEVENT
DTSTART;TZID=Europe/London:20260511T190000
DTEND;TZID=Europe/London:20260511T210000
DTSTAMP:20260421T233937
CREATED:20260417T132916Z
LAST-MODIFIED:20260417T132932Z
UID:10000265-1778526000-1778533200@gl3communityhub.org.uk
SUMMARY:Gloucestershire Gamblers Anonymous
DESCRIPTION:Monday (Except Bank Holidays) – Support Group – 7.00pm – 9.00pm\nThursday – Support Group – 7.30pm – 9.30pm
URL:https://gl3communityhub.org.uk/event/gloucestershire-gamblers-anonymous-monday/2026-05-11/
LOCATION:GL3 Community Hub\, Cheltenham Road East\, Churchdown\, Gloucester\, GL3 1HX\, United Kingdom
CATEGORIES:Support & Wellbeing
END:VEVENT
BEGIN:VEVENT
DTSTART;TZID=Europe/London:20260512T100000
DTEND;TZID=Europe/London:20260512T110000
DTSTAMP:20260421T233937
CREATED:20260417T133853Z
LAST-MODIFIED:20260417T133853Z
UID:10002593-1778580000-1778583600@gl3communityhub.org.uk
SUMMARY:Tuesday Walkers
DESCRIPTION:Tuesday – Social Walking Group (Meet Outside) – 10.00am – 11.00am
URL:https://gl3communityhub.org.uk/event/tuesday-walkers/2026-05-12/
LOCATION:GL3 Community Hub\, Cheltenham Road East\, Churchdown\, Gloucester\, GL3 1HX\, United Kingdom
CATEGORIES:Support & Wellbeing
END:VEVENT
BEGIN:VEVENT
DTSTART;TZID=Europe/London:20260513T100000
DTEND;TZID=Europe/London:20260513T120000
DTSTAMP:20260421T233937
CREATED:20260417T133722Z
LAST-MODIFIED:20260417T133722Z
UID:10002011-1778666400-1778673600@gl3communityhub.org.uk
SUMMARY:Breastfeeding Support Network
DESCRIPTION:Wednesday – Parent & Baby Support – 10.00am – 12.00pm
URL:https://gl3communityhub.org.uk/event/breastfeeding-support-network/2026-05-13/
LOCATION:GL3 Community Hub\, Cheltenham Road East\, Churchdown\, Gloucester\, GL3 1HX\, United Kingdom
CATEGORIES:Support & Wellbeing
END:VEVENT
BEGIN:VEVENT
DTSTART;TZID=Europe/London:20260513T123000
DTEND;TZID=Europe/London:20260513T143000
DTSTAMP:20260421T233937
CREATED:20260417T133825Z
LAST-MODIFIED:20260417T133825Z
UID:10002332-1778675400-1778682600@gl3communityhub.org.uk
SUMMARY:Wellbeing Wednesdays
DESCRIPTION:Wednesday – Social & Wellbeing Activities – 12.30pm – 2.30pm
URL:https://gl3communityhub.org.uk/event/wellbeing-wednesdays/2026-05-13/
LOCATION:GL3 Community Hub\, Cheltenham Road East\, Churchdown\, Gloucester\, GL3 1HX\, United Kingdom
CATEGORIES:Support & Wellbeing
END:VEVENT
BEGIN:VEVENT
DTSTART;TZID=Europe/London:20260513T140000
DTEND;TZID=Europe/London:20260513T160000
DTSTAMP:20260421T233937
CREATED:20260417T133936Z
LAST-MODIFIED:20260417T133936Z
UID:10002854-1778680800-1778688000@gl3communityhub.org.uk
SUMMARY:Knit & Natter
DESCRIPTION:Wednesday – Social Group – 2.00pm – 4.00pm
URL:https://gl3communityhub.org.uk/event/knit-natter/2026-05-13/
LOCATION:GL3 Community Hub\, Cheltenham Road East\, Churchdown\, Gloucester\, GL3 1HX\, United Kingdom
CATEGORIES:Support & Wellbeing
END:VEVENT
BEGIN:VEVENT
DTSTART;TZID=Europe/London:20260513T190000
DTEND;TZID=Europe/London:20260513T213000
DTSTAMP:20260421T233937
CREATED:20260417T131439Z
LAST-MODIFIED:20260417T131439Z
UID:10000004-1778698800-1778707800@gl3communityhub.org.uk
SUMMARY:Man Down – Men’s Mental Health Group
DESCRIPTION:
URL:https://gl3communityhub.org.uk/event/man-down-mens-mental-health-group/2026-05-13/
CATEGORIES:Support & Wellbeing
END:VEVENT
BEGIN:VEVENT
DTSTART;TZID=Europe/London:20260514T100000
DTEND;TZID=Europe/London:20260514T120000
DTSTAMP:20260421T233937
CREATED:20260417T133330Z
LAST-MODIFIED:20260417T133330Z
UID:10001570-1778752800-1778760000@gl3communityhub.org.uk
SUMMARY:Bromford Housing Drop-In
DESCRIPTION:Thursday – Housing Advice – 10.00am – 12.00pm
URL:https://gl3communityhub.org.uk/event/bromford-housing-drop-in/2026-05-14/
LOCATION:GL3 Community Hub\, Cheltenham Road East\, Churchdown\, Gloucester\, GL3 1HX\, United Kingdom
CATEGORIES:Support & Wellbeing
END:VEVENT
BEGIN:VEVENT
DTSTART;TZID=Europe/London:20260514T110000
DTEND;TZID=Europe/London:20260514T130000
DTSTAMP:20260421T233937
CREATED:20260417T133247Z
LAST-MODIFIED:20260417T133247Z
UID:10001309-1778756400-1778763600@gl3communityhub.org.uk
SUMMARY:Hungry No More Foodbank
DESCRIPTION:Thursday – Food Support (Assessment Required) – 11.00am – 1.00pm
URL:https://gl3communityhub.org.uk/event/hungry-no-more-foodbank/2026-05-14/
LOCATION:GL3 Community Hub\, Cheltenham Road East\, Churchdown\, Gloucester\, GL3 1HX\, United Kingdom
CATEGORIES:Support & Wellbeing
END:VEVENT
BEGIN:VEVENT
DTSTART;TZID=Europe/London:20260514T130000
DTEND;TZID=Europe/London:20260514T140000
DTSTAMP:20260421T233937
CREATED:20260417T133549Z
LAST-MODIFIED:20260417T133639Z
UID:10001948-1778763600-1778767200@gl3communityhub.org.uk
SUMMARY:Caring for Communities & People Drop-In
DESCRIPTION:Thursday (2nd & 4th) – Housing & Financial Support – 1.00pm – 2.00pm
URL:https://gl3communityhub.org.uk/event/caring-for-communities-people-drop-in-2t/2026-05-14/
LOCATION:GL3 Community Hub\, Cheltenham Road East\, Churchdown\, Gloucester\, GL3 1HX\, United Kingdom
CATEGORIES:Support & Wellbeing
END:VEVENT
BEGIN:VEVENT
DTSTART;TZID=Europe/London:20260514T193000
DTEND;TZID=Europe/London:20260514T213000
DTSTAMP:20260421T233937
CREATED:20260417T133001Z
LAST-MODIFIED:20260417T133042Z
UID:10000787-1778787000-1778794200@gl3communityhub.org.uk
SUMMARY:Gloucestershire Gamblers Anonymous
DESCRIPTION:Monday (Except Bank Holidays) – Support Group – 7.00pm – 9.00pm\nThursday – Support Group – 7.30pm – 9.30pm
URL:https://gl3communityhub.org.uk/event/gloucestershire-gamblers-anonymous-thursday/2026-05-14/
LOCATION:GL3 Community Hub\, Cheltenham Road East\, Churchdown\, Gloucester\, GL3 1HX\, United Kingdom
CATEGORIES:Support & Wellbeing
END:VEVENT
BEGIN:VEVENT
DTSTART;TZID=Europe/London:20260517T183000
DTEND;TZID=Europe/London:20260517T203000
DTSTAMP:20260421T233937
CREATED:20260417T133214Z
LAST-MODIFIED:20260417T133214Z
UID:10001049-1779042600-1779049800@gl3communityhub.org.uk
SUMMARY:Alcoholics Anonymous
DESCRIPTION:Sunday – Support Group – 6.30pm – 8.30pm
URL:https://gl3communityhub.org.uk/event/alcoholics-anonymous/2026-05-17/
LOCATION:GL3 Community Hub\, Cheltenham Road East\, Churchdown\, Gloucester\, GL3 1HX\, United Kingdom
CATEGORIES:Support & Wellbeing
END:VEVENT
BEGIN:VEVENT
DTSTART;TZID=Europe/London:20260518T190000
DTEND;TZID=Europe/London:20260518T210000
DTSTAMP:20260421T233937
CREATED:20260417T132916Z
LAST-MODIFIED:20260417T132932Z
UID:10000266-1779130800-1779138000@gl3communityhub.org.uk
SUMMARY:Gloucestershire Gamblers Anonymous
DESCRIPTION:Monday (Except Bank Holidays) – Support Group – 7.00pm – 9.00pm\nThursday – Support Group – 7.30pm – 9.30pm
URL:https://gl3communityhub.org.uk/event/gloucestershire-gamblers-anonymous-monday/2026-05-18/
LOCATION:GL3 Community Hub\, Cheltenham Road East\, Churchdown\, Gloucester\, GL3 1HX\, United Kingdom
CATEGORIES:Support & Wellbeing
END:VEVENT
BEGIN:VEVENT
DTSTART;TZID=Europe/London:20260519T100000
DTEND;TZID=Europe/London:20260519T110000
DTSTAMP:20260421T233937
CREATED:20260417T133853Z
LAST-MODIFIED:20260417T133853Z
UID:10002594-1779184800-1779188400@gl3communityhub.org.uk
SUMMARY:Tuesday Walkers
DESCRIPTION:Tuesday – Social Walking Group (Meet Outside) – 10.00am – 11.00am
URL:https://gl3communityhub.org.uk/event/tuesday-walkers/2026-05-19/
LOCATION:GL3 Community Hub\, Cheltenham Road East\, Churchdown\, Gloucester\, GL3 1HX\, United Kingdom
CATEGORIES:Support & Wellbeing
END:VEVENT
BEGIN:VEVENT
DTSTART;TZID=Europe/London:20260520T100000
DTEND;TZID=Europe/London:20260520T120000
DTSTAMP:20260421T233937
CREATED:20260417T133722Z
LAST-MODIFIED:20260417T133722Z
UID:10002012-1779271200-1779278400@gl3communityhub.org.uk
SUMMARY:Breastfeeding Support Network
DESCRIPTION:Wednesday – Parent & Baby Support – 10.00am – 12.00pm
URL:https://gl3communityhub.org.uk/event/breastfeeding-support-network/2026-05-20/
LOCATION:GL3 Community Hub\, Cheltenham Road East\, Churchdown\, Gloucester\, GL3 1HX\, United Kingdom
CATEGORIES:Support & Wellbeing
END:VEVENT
BEGIN:VEVENT
DTSTART;TZID=Europe/London:20260520T123000
DTEND;TZID=Europe/London:20260520T143000
DTSTAMP:20260421T233937
CREATED:20260417T133825Z
LAST-MODIFIED:20260417T133825Z
UID:10002333-1779280200-1779287400@gl3communityhub.org.uk
SUMMARY:Wellbeing Wednesdays
DESCRIPTION:Wednesday – Social & Wellbeing Activities – 12.30pm – 2.30pm
URL:https://gl3communityhub.org.uk/event/wellbeing-wednesdays/2026-05-20/
LOCATION:GL3 Community Hub\, Cheltenham Road East\, Churchdown\, Gloucester\, GL3 1HX\, United Kingdom
CATEGORIES:Support & Wellbeing
END:VEVENT
BEGIN:VEVENT
DTSTART;TZID=Europe/London:20260520T140000
DTEND;TZID=Europe/London:20260520T160000
DTSTAMP:20260421T233937
CREATED:20260417T133936Z
LAST-MODIFIED:20260417T133936Z
UID:10002855-1779285600-1779292800@gl3communityhub.org.uk
SUMMARY:Knit & Natter
DESCRIPTION:Wednesday – Social Group – 2.00pm – 4.00pm
URL:https://gl3communityhub.org.uk/event/knit-natter/2026-05-20/
LOCATION:GL3 Community Hub\, Cheltenham Road East\, Churchdown\, Gloucester\, GL3 1HX\, United Kingdom
CATEGORIES:Support & Wellbeing
END:VEVENT
BEGIN:VEVENT
DTSTART;TZID=Europe/London:20260520T190000
DTEND;TZID=Europe/London:20260520T213000
DTSTAMP:20260421T233937
CREATED:20260417T131439Z
LAST-MODIFIED:20260417T131439Z
UID:10000005-1779303600-1779312600@gl3communityhub.org.uk
SUMMARY:Man Down – Men’s Mental Health Group
DESCRIPTION:
URL:https://gl3communityhub.org.uk/event/man-down-mens-mental-health-group/2026-05-20/
CATEGORIES:Support & Wellbeing
END:VEVENT
BEGIN:VEVENT
DTSTART;TZID=Europe/London:20260521T100000
DTEND;TZID=Europe/London:20260521T120000
DTSTAMP:20260421T233937
CREATED:20260417T133330Z
LAST-MODIFIED:20260417T133330Z
UID:10001571-1779357600-1779364800@gl3communityhub.org.uk
SUMMARY:Bromford Housing Drop-In
DESCRIPTION:Thursday – Housing Advice – 10.00am – 12.00pm
URL:https://gl3communityhub.org.uk/event/bromford-housing-drop-in/2026-05-21/
LOCATION:GL3 Community Hub\, Cheltenham Road East\, Churchdown\, Gloucester\, GL3 1HX\, United Kingdom
CATEGORIES:Support & Wellbeing
END:VEVENT
BEGIN:VEVENT
DTSTART;TZID=Europe/London:20260521T110000
DTEND;TZID=Europe/London:20260521T130000
DTSTAMP:20260421T233937
CREATED:20260417T133247Z
LAST-MODIFIED:20260417T133247Z
UID:10001310-1779361200-1779368400@gl3communityhub.org.uk
SUMMARY:Hungry No More Foodbank
DESCRIPTION:Thursday – Food Support (Assessment Required) – 11.00am – 1.00pm
URL:https://gl3communityhub.org.uk/event/hungry-no-more-foodbank/2026-05-21/
LOCATION:GL3 Community Hub\, Cheltenham Road East\, Churchdown\, Gloucester\, GL3 1HX\, United Kingdom
CATEGORIES:Support & Wellbeing
END:VEVENT
BEGIN:VEVENT
DTSTART;TZID=Europe/London:20260521T193000
DTEND;TZID=Europe/London:20260521T213000
DTSTAMP:20260421T233937
CREATED:20260417T133001Z
LAST-MODIFIED:20260417T133042Z
UID:10000788-1779391800-1779399000@gl3communityhub.org.uk
SUMMARY:Gloucestershire Gamblers Anonymous
DESCRIPTION:Monday (Except Bank Holidays) – Support Group – 7.00pm – 9.00pm\nThursday – Support Group – 7.30pm – 9.30pm
URL:https://gl3communityhub.org.uk/event/gloucestershire-gamblers-anonymous-thursday/2026-05-21/
LOCATION:GL3 Community Hub\, Cheltenham Road East\, Churchdown\, Gloucester\, GL3 1HX\, United Kingdom
CATEGORIES:Support & Wellbeing
END:VEVENT
BEGIN:VEVENT
DTSTART;TZID=Europe/London:20260524T183000
DTEND;TZID=Europe/London:20260524T203000
DTSTAMP:20260421T233937
CREATED:20260417T133214Z
LAST-MODIFIED:20260417T133214Z
UID:10001050-1779647400-1779654600@gl3communityhub.org.uk
SUMMARY:Alcoholics Anonymous
DESCRIPTION:Sunday – Support Group – 6.30pm – 8.30pm
URL:https://gl3communityhub.org.uk/event/alcoholics-anonymous/2026-05-24/
LOCATION:GL3 Community Hub\, Cheltenham Road East\, Churchdown\, Gloucester\, GL3 1HX\, United Kingdom
CATEGORIES:Support & Wellbeing
END:VEVENT
BEGIN:VEVENT
DTSTART;TZID=Europe/London:20260525T190000
DTEND;TZID=Europe/London:20260525T210000
DTSTAMP:20260421T233937
CREATED:20260417T132916Z
LAST-MODIFIED:20260417T132932Z
UID:10000267-1779735600-1779742800@gl3communityhub.org.uk
SUMMARY:Gloucestershire Gamblers Anonymous
DESCRIPTION:Monday (Except Bank Holidays) – Support Group – 7.00pm – 9.00pm\nThursday – Support Group – 7.30pm – 9.30pm
URL:https://gl3communityhub.org.uk/event/gloucestershire-gamblers-anonymous-monday/2026-05-25/
LOCATION:GL3 Community Hub\, Cheltenham Road East\, Churchdown\, Gloucester\, GL3 1HX\, United Kingdom
CATEGORIES:Support & Wellbeing
END:VEVENT
BEGIN:VEVENT
DTSTART;TZID=Europe/London:20260526T100000
DTEND;TZID=Europe/London:20260526T110000
DTSTAMP:20260421T233937
CREATED:20260417T133853Z
LAST-MODIFIED:20260417T133853Z
UID:10002595-1779789600-1779793200@gl3communityhub.org.uk
SUMMARY:Tuesday Walkers
DESCRIPTION:Tuesday – Social Walking Group (Meet Outside) – 10.00am – 11.00am
URL:https://gl3communityhub.org.uk/event/tuesday-walkers/2026-05-26/
LOCATION:GL3 Community Hub\, Cheltenham Road East\, Churchdown\, Gloucester\, GL3 1HX\, United Kingdom
CATEGORIES:Support & Wellbeing
END:VEVENT
BEGIN:VEVENT
DTSTART;TZID=Europe/London:20260527T100000
DTEND;TZID=Europe/London:20260527T120000
DTSTAMP:20260421T233937
CREATED:20260417T133722Z
LAST-MODIFIED:20260417T133722Z
UID:10002013-1779876000-1779883200@gl3communityhub.org.uk
SUMMARY:Breastfeeding Support Network
DESCRIPTION:Wednesday – Parent & Baby Support – 10.00am – 12.00pm
URL:https://gl3communityhub.org.uk/event/breastfeeding-support-network/2026-05-27/
LOCATION:GL3 Community Hub\, Cheltenham Road East\, Churchdown\, Gloucester\, GL3 1HX\, United Kingdom
CATEGORIES:Support & Wellbeing
END:VEVENT
END:VCALENDAR