BEGIN:VCALENDAR
VERSION:2.0
PRODID:-//GL3 Community Hub - ECPv6.15.20//NONSGML v1.0//EN
CALSCALE:GREGORIAN
METHOD:PUBLISH
X-ORIGINAL-URL:https://gl3communityhub.org.uk
X-WR-CALDESC:Events for GL3 Community Hub
REFRESH-INTERVAL;VALUE=DURATION:PT1H
X-Robots-Tag:noindex
X-PUBLISHED-TTL:PT1H
BEGIN:VTIMEZONE
TZID:Europe/London
BEGIN:DAYLIGHT
TZOFFSETFROM:+0000
TZOFFSETTO:+0100
TZNAME:BST
DTSTART:20250330T010000
END:DAYLIGHT
BEGIN:STANDARD
TZOFFSETFROM:+0100
TZOFFSETTO:+0000
TZNAME:GMT
DTSTART:20251026T010000
END:STANDARD
BEGIN:DAYLIGHT
TZOFFSETFROM:+0000
TZOFFSETTO:+0100
TZNAME:BST
DTSTART:20260329T010000
END:DAYLIGHT
BEGIN:STANDARD
TZOFFSETFROM:+0100
TZOFFSETTO:+0000
TZNAME:GMT
DTSTART:20261025T010000
END:STANDARD
BEGIN:DAYLIGHT
TZOFFSETFROM:+0000
TZOFFSETTO:+0100
TZNAME:BST
DTSTART:20270328T010000
END:DAYLIGHT
BEGIN:STANDARD
TZOFFSETFROM:+0100
TZOFFSETTO:+0000
TZNAME:GMT
DTSTART:20271031T010000
END:STANDARD
END:VTIMEZONE
BEGIN:VEVENT
DTSTART;TZID=Europe/London:20260903T110000
DTEND;TZID=Europe/London:20260903T130000
DTSTAMP:20260423T035637
CREATED:20260417T133247Z
LAST-MODIFIED:20260417T133247Z
UID:10001325-1788433200-1788440400@gl3communityhub.org.uk
SUMMARY:Hungry No More Foodbank
DESCRIPTION:Thursday – Food Support (Assessment Required) – 11.00am – 1.00pm
URL:https://gl3communityhub.org.uk/event/hungry-no-more-foodbank/2026-09-03/
LOCATION:GL3 Community Hub\, Cheltenham Road East\, Churchdown\, Gloucester\, GL3 1HX\, United Kingdom
CATEGORIES:Support & Wellbeing
END:VEVENT
BEGIN:VEVENT
DTSTART;TZID=Europe/London:20260903T140000
DTEND;TZID=Europe/London:20260903T160000
DTSTAMP:20260423T035637
CREATED:20260417T133753Z
LAST-MODIFIED:20260417T133753Z
UID:10002273-1788444000-1788451200@gl3communityhub.org.uk
SUMMARY:First Thursday Group
DESCRIPTION:Thursday (1st) – Social Group (Older Adults) – 2.00pm – 4.00pm
URL:https://gl3communityhub.org.uk/event/first-thursday-group/2026-09-03/
LOCATION:GL3 Community Hub\, Cheltenham Road East\, Churchdown\, Gloucester\, GL3 1HX\, United Kingdom
CATEGORIES:Support & Wellbeing
END:VEVENT
BEGIN:VEVENT
DTSTART;TZID=Europe/London:20260903T193000
DTEND;TZID=Europe/London:20260903T213000
DTSTAMP:20260423T035637
CREATED:20260417T133001Z
LAST-MODIFIED:20260417T133042Z
UID:10000803-1788463800-1788471000@gl3communityhub.org.uk
SUMMARY:Gloucestershire Gamblers Anonymous
DESCRIPTION:Monday (Except Bank Holidays) – Support Group – 7.00pm – 9.00pm\nThursday – Support Group – 7.30pm – 9.30pm
URL:https://gl3communityhub.org.uk/event/gloucestershire-gamblers-anonymous-thursday/2026-09-03/
LOCATION:GL3 Community Hub\, Cheltenham Road East\, Churchdown\, Gloucester\, GL3 1HX\, United Kingdom
CATEGORIES:Support & Wellbeing
END:VEVENT
BEGIN:VEVENT
DTSTART;TZID=Europe/London:20260906T183000
DTEND;TZID=Europe/London:20260906T203000
DTSTAMP:20260423T035637
CREATED:20260417T133214Z
LAST-MODIFIED:20260417T133214Z
UID:10001065-1788719400-1788726600@gl3communityhub.org.uk
SUMMARY:Alcoholics Anonymous
DESCRIPTION:Sunday – Support Group – 6.30pm – 8.30pm
URL:https://gl3communityhub.org.uk/event/alcoholics-anonymous/2026-09-06/
LOCATION:GL3 Community Hub\, Cheltenham Road East\, Churchdown\, Gloucester\, GL3 1HX\, United Kingdom
CATEGORIES:Support & Wellbeing
END:VEVENT
BEGIN:VEVENT
DTSTART;TZID=Europe/London:20260907T190000
DTEND;TZID=Europe/London:20260907T210000
DTSTAMP:20260423T035637
CREATED:20260417T132916Z
LAST-MODIFIED:20260417T132932Z
UID:10000282-1788807600-1788814800@gl3communityhub.org.uk
SUMMARY:Gloucestershire Gamblers Anonymous
DESCRIPTION:Monday (Except Bank Holidays) – Support Group – 7.00pm – 9.00pm\nThursday – Support Group – 7.30pm – 9.30pm
URL:https://gl3communityhub.org.uk/event/gloucestershire-gamblers-anonymous-monday/2026-09-07/
LOCATION:GL3 Community Hub\, Cheltenham Road East\, Churchdown\, Gloucester\, GL3 1HX\, United Kingdom
CATEGORIES:Support & Wellbeing
END:VEVENT
BEGIN:VEVENT
DTSTART;TZID=Europe/London:20260908T100000
DTEND;TZID=Europe/London:20260908T110000
DTSTAMP:20260423T035637
CREATED:20260417T133853Z
LAST-MODIFIED:20260417T133853Z
UID:10002610-1788861600-1788865200@gl3communityhub.org.uk
SUMMARY:Tuesday Walkers
DESCRIPTION:Tuesday – Social Walking Group (Meet Outside) – 10.00am – 11.00am
URL:https://gl3communityhub.org.uk/event/tuesday-walkers/2026-09-08/
LOCATION:GL3 Community Hub\, Cheltenham Road East\, Churchdown\, Gloucester\, GL3 1HX\, United Kingdom
CATEGORIES:Support & Wellbeing
END:VEVENT
BEGIN:VEVENT
DTSTART;TZID=Europe/London:20260909T100000
DTEND;TZID=Europe/London:20260909T120000
DTSTAMP:20260423T035637
CREATED:20260417T133722Z
LAST-MODIFIED:20260417T133722Z
UID:10002028-1788948000-1788955200@gl3communityhub.org.uk
SUMMARY:Breastfeeding Support Network
DESCRIPTION:Wednesday – Parent & Baby Support – 10.00am – 12.00pm
URL:https://gl3communityhub.org.uk/event/breastfeeding-support-network/2026-09-09/
LOCATION:GL3 Community Hub\, Cheltenham Road East\, Churchdown\, Gloucester\, GL3 1HX\, United Kingdom
CATEGORIES:Support & Wellbeing
END:VEVENT
BEGIN:VEVENT
DTSTART;TZID=Europe/London:20260909T123000
DTEND;TZID=Europe/London:20260909T143000
DTSTAMP:20260423T035637
CREATED:20260417T133825Z
LAST-MODIFIED:20260417T133825Z
UID:10002349-1788957000-1788964200@gl3communityhub.org.uk
SUMMARY:Wellbeing Wednesdays
DESCRIPTION:Wednesday – Social & Wellbeing Activities – 12.30pm – 2.30pm
URL:https://gl3communityhub.org.uk/event/wellbeing-wednesdays/2026-09-09/
LOCATION:GL3 Community Hub\, Cheltenham Road East\, Churchdown\, Gloucester\, GL3 1HX\, United Kingdom
CATEGORIES:Support & Wellbeing
END:VEVENT
BEGIN:VEVENT
DTSTART;TZID=Europe/London:20260909T140000
DTEND;TZID=Europe/London:20260909T160000
DTSTAMP:20260423T035637
CREATED:20260417T133936Z
LAST-MODIFIED:20260417T133936Z
UID:10002871-1788962400-1788969600@gl3communityhub.org.uk
SUMMARY:Knit & Natter
DESCRIPTION:Wednesday – Social Group – 2.00pm – 4.00pm
URL:https://gl3communityhub.org.uk/event/knit-natter/2026-09-09/
LOCATION:GL3 Community Hub\, Cheltenham Road East\, Churchdown\, Gloucester\, GL3 1HX\, United Kingdom
CATEGORIES:Support & Wellbeing
END:VEVENT
BEGIN:VEVENT
DTSTART;TZID=Europe/London:20260909T190000
DTEND;TZID=Europe/London:20260909T213000
DTSTAMP:20260423T035637
CREATED:20260417T131439Z
LAST-MODIFIED:20260417T131439Z
UID:10000021-1788980400-1788989400@gl3communityhub.org.uk
SUMMARY:Man Down – Men’s Mental Health Group
DESCRIPTION:
URL:https://gl3communityhub.org.uk/event/man-down-mens-mental-health-group/2026-09-09/
CATEGORIES:Support & Wellbeing
END:VEVENT
BEGIN:VEVENT
DTSTART;TZID=Europe/London:20260910T100000
DTEND;TZID=Europe/London:20260910T120000
DTSTAMP:20260423T035637
CREATED:20260417T133330Z
LAST-MODIFIED:20260417T133330Z
UID:10001587-1789034400-1789041600@gl3communityhub.org.uk
SUMMARY:Bromford Housing Drop-In
DESCRIPTION:Thursday – Housing Advice – 10.00am – 12.00pm
URL:https://gl3communityhub.org.uk/event/bromford-housing-drop-in/2026-09-10/
LOCATION:GL3 Community Hub\, Cheltenham Road East\, Churchdown\, Gloucester\, GL3 1HX\, United Kingdom
CATEGORIES:Support & Wellbeing
END:VEVENT
BEGIN:VEVENT
DTSTART;TZID=Europe/London:20260910T110000
DTEND;TZID=Europe/London:20260910T130000
DTSTAMP:20260423T035637
CREATED:20260417T133247Z
LAST-MODIFIED:20260417T133247Z
UID:10001326-1789038000-1789045200@gl3communityhub.org.uk
SUMMARY:Hungry No More Foodbank
DESCRIPTION:Thursday – Food Support (Assessment Required) – 11.00am – 1.00pm
URL:https://gl3communityhub.org.uk/event/hungry-no-more-foodbank/2026-09-10/
LOCATION:GL3 Community Hub\, Cheltenham Road East\, Churchdown\, Gloucester\, GL3 1HX\, United Kingdom
CATEGORIES:Support & Wellbeing
END:VEVENT
BEGIN:VEVENT
DTSTART;TZID=Europe/London:20260910T130000
DTEND;TZID=Europe/London:20260910T140000
DTSTAMP:20260423T035637
CREATED:20260417T133549Z
LAST-MODIFIED:20260417T133639Z
UID:10001952-1789045200-1789048800@gl3communityhub.org.uk
SUMMARY:Caring for Communities & People Drop-In
DESCRIPTION:Thursday (2nd & 4th) – Housing & Financial Support – 1.00pm – 2.00pm
URL:https://gl3communityhub.org.uk/event/caring-for-communities-people-drop-in-2t/2026-09-10/
LOCATION:GL3 Community Hub\, Cheltenham Road East\, Churchdown\, Gloucester\, GL3 1HX\, United Kingdom
CATEGORIES:Support & Wellbeing
END:VEVENT
BEGIN:VEVENT
DTSTART;TZID=Europe/London:20260910T193000
DTEND;TZID=Europe/London:20260910T213000
DTSTAMP:20260423T035637
CREATED:20260417T133001Z
LAST-MODIFIED:20260417T133042Z
UID:10000804-1789068600-1789075800@gl3communityhub.org.uk
SUMMARY:Gloucestershire Gamblers Anonymous
DESCRIPTION:Monday (Except Bank Holidays) – Support Group – 7.00pm – 9.00pm\nThursday – Support Group – 7.30pm – 9.30pm
URL:https://gl3communityhub.org.uk/event/gloucestershire-gamblers-anonymous-thursday/2026-09-10/
LOCATION:GL3 Community Hub\, Cheltenham Road East\, Churchdown\, Gloucester\, GL3 1HX\, United Kingdom
CATEGORIES:Support & Wellbeing
END:VEVENT
BEGIN:VEVENT
DTSTART;TZID=Europe/London:20260913T183000
DTEND;TZID=Europe/London:20260913T203000
DTSTAMP:20260423T035637
CREATED:20260417T133214Z
LAST-MODIFIED:20260417T133214Z
UID:10001066-1789324200-1789331400@gl3communityhub.org.uk
SUMMARY:Alcoholics Anonymous
DESCRIPTION:Sunday – Support Group – 6.30pm – 8.30pm
URL:https://gl3communityhub.org.uk/event/alcoholics-anonymous/2026-09-13/
LOCATION:GL3 Community Hub\, Cheltenham Road East\, Churchdown\, Gloucester\, GL3 1HX\, United Kingdom
CATEGORIES:Support & Wellbeing
END:VEVENT
BEGIN:VEVENT
DTSTART;TZID=Europe/London:20260914T190000
DTEND;TZID=Europe/London:20260914T210000
DTSTAMP:20260423T035637
CREATED:20260417T132916Z
LAST-MODIFIED:20260417T132932Z
UID:10000283-1789412400-1789419600@gl3communityhub.org.uk
SUMMARY:Gloucestershire Gamblers Anonymous
DESCRIPTION:Monday (Except Bank Holidays) – Support Group – 7.00pm – 9.00pm\nThursday – Support Group – 7.30pm – 9.30pm
URL:https://gl3communityhub.org.uk/event/gloucestershire-gamblers-anonymous-monday/2026-09-14/
LOCATION:GL3 Community Hub\, Cheltenham Road East\, Churchdown\, Gloucester\, GL3 1HX\, United Kingdom
CATEGORIES:Support & Wellbeing
END:VEVENT
BEGIN:VEVENT
DTSTART;TZID=Europe/London:20260915T100000
DTEND;TZID=Europe/London:20260915T110000
DTSTAMP:20260423T035637
CREATED:20260417T133853Z
LAST-MODIFIED:20260417T133853Z
UID:10002611-1789466400-1789470000@gl3communityhub.org.uk
SUMMARY:Tuesday Walkers
DESCRIPTION:Tuesday – Social Walking Group (Meet Outside) – 10.00am – 11.00am
URL:https://gl3communityhub.org.uk/event/tuesday-walkers/2026-09-15/
LOCATION:GL3 Community Hub\, Cheltenham Road East\, Churchdown\, Gloucester\, GL3 1HX\, United Kingdom
CATEGORIES:Support & Wellbeing
END:VEVENT
BEGIN:VEVENT
DTSTART;TZID=Europe/London:20260916T100000
DTEND;TZID=Europe/London:20260916T120000
DTSTAMP:20260423T035637
CREATED:20260417T133722Z
LAST-MODIFIED:20260417T133722Z
UID:10002029-1789552800-1789560000@gl3communityhub.org.uk
SUMMARY:Breastfeeding Support Network
DESCRIPTION:Wednesday – Parent & Baby Support – 10.00am – 12.00pm
URL:https://gl3communityhub.org.uk/event/breastfeeding-support-network/2026-09-16/
LOCATION:GL3 Community Hub\, Cheltenham Road East\, Churchdown\, Gloucester\, GL3 1HX\, United Kingdom
CATEGORIES:Support & Wellbeing
END:VEVENT
BEGIN:VEVENT
DTSTART;TZID=Europe/London:20260916T123000
DTEND;TZID=Europe/London:20260916T143000
DTSTAMP:20260423T035637
CREATED:20260417T133825Z
LAST-MODIFIED:20260417T133825Z
UID:10002350-1789561800-1789569000@gl3communityhub.org.uk
SUMMARY:Wellbeing Wednesdays
DESCRIPTION:Wednesday – Social & Wellbeing Activities – 12.30pm – 2.30pm
URL:https://gl3communityhub.org.uk/event/wellbeing-wednesdays/2026-09-16/
LOCATION:GL3 Community Hub\, Cheltenham Road East\, Churchdown\, Gloucester\, GL3 1HX\, United Kingdom
CATEGORIES:Support & Wellbeing
END:VEVENT
BEGIN:VEVENT
DTSTART;TZID=Europe/London:20260916T140000
DTEND;TZID=Europe/London:20260916T160000
DTSTAMP:20260423T035637
CREATED:20260417T133936Z
LAST-MODIFIED:20260417T133936Z
UID:10002872-1789567200-1789574400@gl3communityhub.org.uk
SUMMARY:Knit & Natter
DESCRIPTION:Wednesday – Social Group – 2.00pm – 4.00pm
URL:https://gl3communityhub.org.uk/event/knit-natter/2026-09-16/
LOCATION:GL3 Community Hub\, Cheltenham Road East\, Churchdown\, Gloucester\, GL3 1HX\, United Kingdom
CATEGORIES:Support & Wellbeing
END:VEVENT
BEGIN:VEVENT
DTSTART;TZID=Europe/London:20260916T190000
DTEND;TZID=Europe/London:20260916T213000
DTSTAMP:20260423T035637
CREATED:20260417T131439Z
LAST-MODIFIED:20260417T131439Z
UID:10000022-1789585200-1789594200@gl3communityhub.org.uk
SUMMARY:Man Down – Men’s Mental Health Group
DESCRIPTION:
URL:https://gl3communityhub.org.uk/event/man-down-mens-mental-health-group/2026-09-16/
CATEGORIES:Support & Wellbeing
END:VEVENT
BEGIN:VEVENT
DTSTART;TZID=Europe/London:20260917T100000
DTEND;TZID=Europe/London:20260917T120000
DTSTAMP:20260423T035637
CREATED:20260417T133330Z
LAST-MODIFIED:20260417T133330Z
UID:10001588-1789639200-1789646400@gl3communityhub.org.uk
SUMMARY:Bromford Housing Drop-In
DESCRIPTION:Thursday – Housing Advice – 10.00am – 12.00pm
URL:https://gl3communityhub.org.uk/event/bromford-housing-drop-in/2026-09-17/
LOCATION:GL3 Community Hub\, Cheltenham Road East\, Churchdown\, Gloucester\, GL3 1HX\, United Kingdom
CATEGORIES:Support & Wellbeing
END:VEVENT
BEGIN:VEVENT
DTSTART;TZID=Europe/London:20260917T110000
DTEND;TZID=Europe/London:20260917T130000
DTSTAMP:20260423T035637
CREATED:20260417T133247Z
LAST-MODIFIED:20260417T133247Z
UID:10001327-1789642800-1789650000@gl3communityhub.org.uk
SUMMARY:Hungry No More Foodbank
DESCRIPTION:Thursday – Food Support (Assessment Required) – 11.00am – 1.00pm
URL:https://gl3communityhub.org.uk/event/hungry-no-more-foodbank/2026-09-17/
LOCATION:GL3 Community Hub\, Cheltenham Road East\, Churchdown\, Gloucester\, GL3 1HX\, United Kingdom
CATEGORIES:Support & Wellbeing
END:VEVENT
BEGIN:VEVENT
DTSTART;TZID=Europe/London:20260917T193000
DTEND;TZID=Europe/London:20260917T213000
DTSTAMP:20260423T035637
CREATED:20260417T133001Z
LAST-MODIFIED:20260417T133042Z
UID:10000805-1789673400-1789680600@gl3communityhub.org.uk
SUMMARY:Gloucestershire Gamblers Anonymous
DESCRIPTION:Monday (Except Bank Holidays) – Support Group – 7.00pm – 9.00pm\nThursday – Support Group – 7.30pm – 9.30pm
URL:https://gl3communityhub.org.uk/event/gloucestershire-gamblers-anonymous-thursday/2026-09-17/
LOCATION:GL3 Community Hub\, Cheltenham Road East\, Churchdown\, Gloucester\, GL3 1HX\, United Kingdom
CATEGORIES:Support & Wellbeing
END:VEVENT
BEGIN:VEVENT
DTSTART;TZID=Europe/London:20260920T183000
DTEND;TZID=Europe/London:20260920T203000
DTSTAMP:20260423T035637
CREATED:20260417T133214Z
LAST-MODIFIED:20260417T133214Z
UID:10001067-1789929000-1789936200@gl3communityhub.org.uk
SUMMARY:Alcoholics Anonymous
DESCRIPTION:Sunday – Support Group – 6.30pm – 8.30pm
URL:https://gl3communityhub.org.uk/event/alcoholics-anonymous/2026-09-20/
LOCATION:GL3 Community Hub\, Cheltenham Road East\, Churchdown\, Gloucester\, GL3 1HX\, United Kingdom
CATEGORIES:Support & Wellbeing
END:VEVENT
BEGIN:VEVENT
DTSTART;TZID=Europe/London:20260921T190000
DTEND;TZID=Europe/London:20260921T210000
DTSTAMP:20260423T035637
CREATED:20260417T132916Z
LAST-MODIFIED:20260417T132932Z
UID:10000284-1790017200-1790024400@gl3communityhub.org.uk
SUMMARY:Gloucestershire Gamblers Anonymous
DESCRIPTION:Monday (Except Bank Holidays) – Support Group – 7.00pm – 9.00pm\nThursday – Support Group – 7.30pm – 9.30pm
URL:https://gl3communityhub.org.uk/event/gloucestershire-gamblers-anonymous-monday/2026-09-21/
LOCATION:GL3 Community Hub\, Cheltenham Road East\, Churchdown\, Gloucester\, GL3 1HX\, United Kingdom
CATEGORIES:Support & Wellbeing
END:VEVENT
BEGIN:VEVENT
DTSTART;TZID=Europe/London:20260922T100000
DTEND;TZID=Europe/London:20260922T110000
DTSTAMP:20260423T035637
CREATED:20260417T133853Z
LAST-MODIFIED:20260417T133853Z
UID:10002612-1790071200-1790074800@gl3communityhub.org.uk
SUMMARY:Tuesday Walkers
DESCRIPTION:Tuesday – Social Walking Group (Meet Outside) – 10.00am – 11.00am
URL:https://gl3communityhub.org.uk/event/tuesday-walkers/2026-09-22/
LOCATION:GL3 Community Hub\, Cheltenham Road East\, Churchdown\, Gloucester\, GL3 1HX\, United Kingdom
CATEGORIES:Support & Wellbeing
END:VEVENT
BEGIN:VEVENT
DTSTART;TZID=Europe/London:20260923T100000
DTEND;TZID=Europe/London:20260923T120000
DTSTAMP:20260423T035637
CREATED:20260417T133722Z
LAST-MODIFIED:20260417T133722Z
UID:10002030-1790157600-1790164800@gl3communityhub.org.uk
SUMMARY:Breastfeeding Support Network
DESCRIPTION:Wednesday – Parent & Baby Support – 10.00am – 12.00pm
URL:https://gl3communityhub.org.uk/event/breastfeeding-support-network/2026-09-23/
LOCATION:GL3 Community Hub\, Cheltenham Road East\, Churchdown\, Gloucester\, GL3 1HX\, United Kingdom
CATEGORIES:Support & Wellbeing
END:VEVENT
BEGIN:VEVENT
DTSTART;TZID=Europe/London:20260923T123000
DTEND;TZID=Europe/London:20260923T143000
DTSTAMP:20260423T035637
CREATED:20260417T133825Z
LAST-MODIFIED:20260417T133825Z
UID:10002351-1790166600-1790173800@gl3communityhub.org.uk
SUMMARY:Wellbeing Wednesdays
DESCRIPTION:Wednesday – Social & Wellbeing Activities – 12.30pm – 2.30pm
URL:https://gl3communityhub.org.uk/event/wellbeing-wednesdays/2026-09-23/
LOCATION:GL3 Community Hub\, Cheltenham Road East\, Churchdown\, Gloucester\, GL3 1HX\, United Kingdom
CATEGORIES:Support & Wellbeing
END:VEVENT
BEGIN:VEVENT
DTSTART;TZID=Europe/London:20260923T140000
DTEND;TZID=Europe/London:20260923T160000
DTSTAMP:20260423T035637
CREATED:20260417T133936Z
LAST-MODIFIED:20260417T133936Z
UID:10002873-1790172000-1790179200@gl3communityhub.org.uk
SUMMARY:Knit & Natter
DESCRIPTION:Wednesday – Social Group – 2.00pm – 4.00pm
URL:https://gl3communityhub.org.uk/event/knit-natter/2026-09-23/
LOCATION:GL3 Community Hub\, Cheltenham Road East\, Churchdown\, Gloucester\, GL3 1HX\, United Kingdom
CATEGORIES:Support & Wellbeing
END:VEVENT
END:VCALENDAR