BEGIN:VCALENDAR
VERSION:2.0
PRODID:-//GL3 Community Hub - ECPv6.15.20//NONSGML v1.0//EN
CALSCALE:GREGORIAN
METHOD:PUBLISH
X-ORIGINAL-URL:https://gl3communityhub.org.uk
X-WR-CALDESC:Events for GL3 Community Hub
REFRESH-INTERVAL;VALUE=DURATION:PT1H
X-Robots-Tag:noindex
X-PUBLISHED-TTL:PT1H
BEGIN:VTIMEZONE
TZID:Europe/London
BEGIN:DAYLIGHT
TZOFFSETFROM:+0000
TZOFFSETTO:+0100
TZNAME:BST
DTSTART:20250330T010000
END:DAYLIGHT
BEGIN:STANDARD
TZOFFSETFROM:+0100
TZOFFSETTO:+0000
TZNAME:GMT
DTSTART:20251026T010000
END:STANDARD
BEGIN:DAYLIGHT
TZOFFSETFROM:+0000
TZOFFSETTO:+0100
TZNAME:BST
DTSTART:20260329T010000
END:DAYLIGHT
BEGIN:STANDARD
TZOFFSETFROM:+0100
TZOFFSETTO:+0000
TZNAME:GMT
DTSTART:20261025T010000
END:STANDARD
BEGIN:DAYLIGHT
TZOFFSETFROM:+0000
TZOFFSETTO:+0100
TZNAME:BST
DTSTART:20270328T010000
END:DAYLIGHT
BEGIN:STANDARD
TZOFFSETFROM:+0100
TZOFFSETTO:+0000
TZNAME:GMT
DTSTART:20271031T010000
END:STANDARD
BEGIN:DAYLIGHT
TZOFFSETFROM:+0000
TZOFFSETTO:+0100
TZNAME:BST
DTSTART:20280326T010000
END:DAYLIGHT
BEGIN:STANDARD
TZOFFSETFROM:+0100
TZOFFSETTO:+0000
TZNAME:GMT
DTSTART:20281029T010000
END:STANDARD
END:VTIMEZONE
BEGIN:VEVENT
DTSTART;TZID=Europe/London:20261224T130000
DTEND;TZID=Europe/London:20261224T140000
DTSTAMP:20260426T051057
CREATED:20260417T133519Z
LAST-MODIFIED:20260417T133616Z
UID:10001836-1798117200-1798120800@gl3communityhub.org.uk
SUMMARY:Caring for Communities & People Drop-In
DESCRIPTION:Thursday (2nd & 4th) – Housing & Financial Support – 1.00pm – 2.00pm
URL:https://gl3communityhub.org.uk/event/caring-for-communities-people-drop-in-4t/2026-12-24/
LOCATION:GL3 Community Hub\, Cheltenham Road East\, Churchdown\, Gloucester\, GL3 1HX\, United Kingdom
CATEGORIES:Support & Wellbeing
END:VEVENT
BEGIN:VEVENT
DTSTART;TZID=Europe/London:20261224T193000
DTEND;TZID=Europe/London:20261224T213000
DTSTAMP:20260426T051057
CREATED:20260417T133001Z
LAST-MODIFIED:20260417T133042Z
UID:10000819-1798140600-1798147800@gl3communityhub.org.uk
SUMMARY:Gloucestershire Gamblers Anonymous
DESCRIPTION:Monday (Except Bank Holidays) – Support Group – 7.00pm – 9.00pm\nThursday – Support Group – 7.30pm – 9.30pm
URL:https://gl3communityhub.org.uk/event/gloucestershire-gamblers-anonymous-thursday/2026-12-24/
LOCATION:GL3 Community Hub\, Cheltenham Road East\, Churchdown\, Gloucester\, GL3 1HX\, United Kingdom
CATEGORIES:Support & Wellbeing
END:VEVENT
BEGIN:VEVENT
DTSTART;TZID=Europe/London:20261227T183000
DTEND;TZID=Europe/London:20261227T203000
DTSTAMP:20260426T051057
CREATED:20260417T133214Z
LAST-MODIFIED:20260417T133214Z
UID:10001081-1798396200-1798403400@gl3communityhub.org.uk
SUMMARY:Alcoholics Anonymous
DESCRIPTION:Sunday – Support Group – 6.30pm – 8.30pm
URL:https://gl3communityhub.org.uk/event/alcoholics-anonymous/2026-12-27/
LOCATION:GL3 Community Hub\, Cheltenham Road East\, Churchdown\, Gloucester\, GL3 1HX\, United Kingdom
CATEGORIES:Support & Wellbeing
END:VEVENT
BEGIN:VEVENT
DTSTART;TZID=Europe/London:20261228T190000
DTEND;TZID=Europe/London:20261228T210000
DTSTAMP:20260426T051057
CREATED:20260417T132916Z
LAST-MODIFIED:20260417T132932Z
UID:10000298-1798484400-1798491600@gl3communityhub.org.uk
SUMMARY:Gloucestershire Gamblers Anonymous
DESCRIPTION:Monday (Except Bank Holidays) – Support Group – 7.00pm – 9.00pm\nThursday – Support Group – 7.30pm – 9.30pm
URL:https://gl3communityhub.org.uk/event/gloucestershire-gamblers-anonymous-monday/2026-12-28/
LOCATION:GL3 Community Hub\, Cheltenham Road East\, Churchdown\, Gloucester\, GL3 1HX\, United Kingdom
CATEGORIES:Support & Wellbeing
END:VEVENT
BEGIN:VEVENT
DTSTART;TZID=Europe/London:20261229T100000
DTEND;TZID=Europe/London:20261229T110000
DTSTAMP:20260426T051057
CREATED:20260417T133853Z
LAST-MODIFIED:20260417T133853Z
UID:10002626-1798538400-1798542000@gl3communityhub.org.uk
SUMMARY:Tuesday Walkers
DESCRIPTION:Tuesday – Social Walking Group (Meet Outside) – 10.00am – 11.00am
URL:https://gl3communityhub.org.uk/event/tuesday-walkers/2026-12-29/
LOCATION:GL3 Community Hub\, Cheltenham Road East\, Churchdown\, Gloucester\, GL3 1HX\, United Kingdom
CATEGORIES:Support & Wellbeing
END:VEVENT
BEGIN:VEVENT
DTSTART;TZID=Europe/London:20261230T100000
DTEND;TZID=Europe/London:20261230T120000
DTSTAMP:20260426T051057
CREATED:20260417T133722Z
LAST-MODIFIED:20260417T133722Z
UID:10002044-1798624800-1798632000@gl3communityhub.org.uk
SUMMARY:Breastfeeding Support Network
DESCRIPTION:Wednesday – Parent & Baby Support – 10.00am – 12.00pm
URL:https://gl3communityhub.org.uk/event/breastfeeding-support-network/2026-12-30/
LOCATION:GL3 Community Hub\, Cheltenham Road East\, Churchdown\, Gloucester\, GL3 1HX\, United Kingdom
CATEGORIES:Support & Wellbeing
END:VEVENT
BEGIN:VEVENT
DTSTART;TZID=Europe/London:20261230T123000
DTEND;TZID=Europe/London:20261230T143000
DTSTAMP:20260426T051057
CREATED:20260417T133825Z
LAST-MODIFIED:20260417T133825Z
UID:10002365-1798633800-1798641000@gl3communityhub.org.uk
SUMMARY:Wellbeing Wednesdays
DESCRIPTION:Wednesday – Social & Wellbeing Activities – 12.30pm – 2.30pm
URL:https://gl3communityhub.org.uk/event/wellbeing-wednesdays/2026-12-30/
LOCATION:GL3 Community Hub\, Cheltenham Road East\, Churchdown\, Gloucester\, GL3 1HX\, United Kingdom
CATEGORIES:Support & Wellbeing
END:VEVENT
BEGIN:VEVENT
DTSTART;TZID=Europe/London:20261230T140000
DTEND;TZID=Europe/London:20261230T160000
DTSTAMP:20260426T051057
CREATED:20260417T133936Z
LAST-MODIFIED:20260417T133936Z
UID:10002887-1798639200-1798646400@gl3communityhub.org.uk
SUMMARY:Knit & Natter
DESCRIPTION:Wednesday – Social Group – 2.00pm – 4.00pm
URL:https://gl3communityhub.org.uk/event/knit-natter/2026-12-30/
LOCATION:GL3 Community Hub\, Cheltenham Road East\, Churchdown\, Gloucester\, GL3 1HX\, United Kingdom
CATEGORIES:Support & Wellbeing
END:VEVENT
BEGIN:VEVENT
DTSTART;TZID=Europe/London:20261230T190000
DTEND;TZID=Europe/London:20261230T213000
DTSTAMP:20260426T051057
CREATED:20260417T131439Z
LAST-MODIFIED:20260417T131439Z
UID:10000037-1798657200-1798666200@gl3communityhub.org.uk
SUMMARY:Man Down – Men’s Mental Health Group
DESCRIPTION:
URL:https://gl3communityhub.org.uk/event/man-down-mens-mental-health-group/2026-12-30/
CATEGORIES:Support & Wellbeing
END:VEVENT
BEGIN:VEVENT
DTSTART;TZID=Europe/London:20261231T100000
DTEND;TZID=Europe/London:20261231T120000
DTSTAMP:20260426T051057
CREATED:20260417T133330Z
LAST-MODIFIED:20260417T133330Z
UID:10001603-1798711200-1798718400@gl3communityhub.org.uk
SUMMARY:Bromford Housing Drop-In
DESCRIPTION:Thursday – Housing Advice – 10.00am – 12.00pm
URL:https://gl3communityhub.org.uk/event/bromford-housing-drop-in/2026-12-31/
LOCATION:GL3 Community Hub\, Cheltenham Road East\, Churchdown\, Gloucester\, GL3 1HX\, United Kingdom
CATEGORIES:Support & Wellbeing
END:VEVENT
BEGIN:VEVENT
DTSTART;TZID=Europe/London:20261231T110000
DTEND;TZID=Europe/London:20261231T130000
DTSTAMP:20260426T051057
CREATED:20260417T133247Z
LAST-MODIFIED:20260417T133247Z
UID:10001342-1798714800-1798722000@gl3communityhub.org.uk
SUMMARY:Hungry No More Foodbank
DESCRIPTION:Thursday – Food Support (Assessment Required) – 11.00am – 1.00pm
URL:https://gl3communityhub.org.uk/event/hungry-no-more-foodbank/2026-12-31/
LOCATION:GL3 Community Hub\, Cheltenham Road East\, Churchdown\, Gloucester\, GL3 1HX\, United Kingdom
CATEGORIES:Support & Wellbeing
END:VEVENT
BEGIN:VEVENT
DTSTART;TZID=Europe/London:20261231T193000
DTEND;TZID=Europe/London:20261231T213000
DTSTAMP:20260426T051057
CREATED:20260417T133001Z
LAST-MODIFIED:20260417T133042Z
UID:10000820-1798745400-1798752600@gl3communityhub.org.uk
SUMMARY:Gloucestershire Gamblers Anonymous
DESCRIPTION:Monday (Except Bank Holidays) – Support Group – 7.00pm – 9.00pm\nThursday – Support Group – 7.30pm – 9.30pm
URL:https://gl3communityhub.org.uk/event/gloucestershire-gamblers-anonymous-thursday/2026-12-31/
LOCATION:GL3 Community Hub\, Cheltenham Road East\, Churchdown\, Gloucester\, GL3 1HX\, United Kingdom
CATEGORIES:Support & Wellbeing
END:VEVENT
BEGIN:VEVENT
DTSTART;TZID=Europe/London:20270103T183000
DTEND;TZID=Europe/London:20270103T203000
DTSTAMP:20260426T051057
CREATED:20260417T133214Z
LAST-MODIFIED:20260417T133214Z
UID:10001082-1799001000-1799008200@gl3communityhub.org.uk
SUMMARY:Alcoholics Anonymous
DESCRIPTION:Sunday – Support Group – 6.30pm – 8.30pm
URL:https://gl3communityhub.org.uk/event/alcoholics-anonymous/2027-01-03/
LOCATION:GL3 Community Hub\, Cheltenham Road East\, Churchdown\, Gloucester\, GL3 1HX\, United Kingdom
CATEGORIES:Support & Wellbeing
END:VEVENT
BEGIN:VEVENT
DTSTART;TZID=Europe/London:20270104T190000
DTEND;TZID=Europe/London:20270104T210000
DTSTAMP:20260426T051057
CREATED:20260417T132916Z
LAST-MODIFIED:20260417T132932Z
UID:10000299-1799089200-1799096400@gl3communityhub.org.uk
SUMMARY:Gloucestershire Gamblers Anonymous
DESCRIPTION:Monday (Except Bank Holidays) – Support Group – 7.00pm – 9.00pm\nThursday – Support Group – 7.30pm – 9.30pm
URL:https://gl3communityhub.org.uk/event/gloucestershire-gamblers-anonymous-monday/2027-01-04/
LOCATION:GL3 Community Hub\, Cheltenham Road East\, Churchdown\, Gloucester\, GL3 1HX\, United Kingdom
CATEGORIES:Support & Wellbeing
END:VEVENT
BEGIN:VEVENT
DTSTART;TZID=Europe/London:20270105T100000
DTEND;TZID=Europe/London:20270105T110000
DTSTAMP:20260426T051057
CREATED:20260417T133853Z
LAST-MODIFIED:20260417T133853Z
UID:10002627-1799143200-1799146800@gl3communityhub.org.uk
SUMMARY:Tuesday Walkers
DESCRIPTION:Tuesday – Social Walking Group (Meet Outside) – 10.00am – 11.00am
URL:https://gl3communityhub.org.uk/event/tuesday-walkers/2027-01-05/
LOCATION:GL3 Community Hub\, Cheltenham Road East\, Churchdown\, Gloucester\, GL3 1HX\, United Kingdom
CATEGORIES:Support & Wellbeing
END:VEVENT
BEGIN:VEVENT
DTSTART;TZID=Europe/London:20270106T100000
DTEND;TZID=Europe/London:20270106T120000
DTSTAMP:20260426T051057
CREATED:20260417T133722Z
LAST-MODIFIED:20260417T133722Z
UID:10002045-1799229600-1799236800@gl3communityhub.org.uk
SUMMARY:Breastfeeding Support Network
DESCRIPTION:Wednesday – Parent & Baby Support – 10.00am – 12.00pm
URL:https://gl3communityhub.org.uk/event/breastfeeding-support-network/2027-01-06/
LOCATION:GL3 Community Hub\, Cheltenham Road East\, Churchdown\, Gloucester\, GL3 1HX\, United Kingdom
CATEGORIES:Support & Wellbeing
END:VEVENT
BEGIN:VEVENT
DTSTART;TZID=Europe/London:20270106T123000
DTEND;TZID=Europe/London:20270106T143000
DTSTAMP:20260426T051057
CREATED:20260417T133825Z
LAST-MODIFIED:20260417T133825Z
UID:10002366-1799238600-1799245800@gl3communityhub.org.uk
SUMMARY:Wellbeing Wednesdays
DESCRIPTION:Wednesday – Social & Wellbeing Activities – 12.30pm – 2.30pm
URL:https://gl3communityhub.org.uk/event/wellbeing-wednesdays/2027-01-06/
LOCATION:GL3 Community Hub\, Cheltenham Road East\, Churchdown\, Gloucester\, GL3 1HX\, United Kingdom
CATEGORIES:Support & Wellbeing
END:VEVENT
BEGIN:VEVENT
DTSTART;TZID=Europe/London:20270106T140000
DTEND;TZID=Europe/London:20270106T160000
DTSTAMP:20260426T051057
CREATED:20260417T133936Z
LAST-MODIFIED:20260417T133936Z
UID:10002888-1799244000-1799251200@gl3communityhub.org.uk
SUMMARY:Knit & Natter
DESCRIPTION:Wednesday – Social Group – 2.00pm – 4.00pm
URL:https://gl3communityhub.org.uk/event/knit-natter/2027-01-06/
LOCATION:GL3 Community Hub\, Cheltenham Road East\, Churchdown\, Gloucester\, GL3 1HX\, United Kingdom
CATEGORIES:Support & Wellbeing
END:VEVENT
BEGIN:VEVENT
DTSTART;TZID=Europe/London:20270106T190000
DTEND;TZID=Europe/London:20270106T213000
DTSTAMP:20260426T051057
CREATED:20260417T131439Z
LAST-MODIFIED:20260417T131439Z
UID:10000038-1799262000-1799271000@gl3communityhub.org.uk
SUMMARY:Man Down – Men’s Mental Health Group
DESCRIPTION:
URL:https://gl3communityhub.org.uk/event/man-down-mens-mental-health-group/2027-01-06/
CATEGORIES:Support & Wellbeing
END:VEVENT
BEGIN:VEVENT
DTSTART;TZID=Europe/London:20270107T100000
DTEND;TZID=Europe/London:20270107T120000
DTSTAMP:20260426T051057
CREATED:20260417T133330Z
LAST-MODIFIED:20260417T133330Z
UID:10001604-1799316000-1799323200@gl3communityhub.org.uk
SUMMARY:Bromford Housing Drop-In
DESCRIPTION:Thursday – Housing Advice – 10.00am – 12.00pm
URL:https://gl3communityhub.org.uk/event/bromford-housing-drop-in/2027-01-07/
LOCATION:GL3 Community Hub\, Cheltenham Road East\, Churchdown\, Gloucester\, GL3 1HX\, United Kingdom
CATEGORIES:Support & Wellbeing
END:VEVENT
BEGIN:VEVENT
DTSTART;TZID=Europe/London:20270107T110000
DTEND;TZID=Europe/London:20270107T130000
DTSTAMP:20260426T051057
CREATED:20260417T133247Z
LAST-MODIFIED:20260417T133247Z
UID:10001343-1799319600-1799326800@gl3communityhub.org.uk
SUMMARY:Hungry No More Foodbank
DESCRIPTION:Thursday – Food Support (Assessment Required) – 11.00am – 1.00pm
URL:https://gl3communityhub.org.uk/event/hungry-no-more-foodbank/2027-01-07/
LOCATION:GL3 Community Hub\, Cheltenham Road East\, Churchdown\, Gloucester\, GL3 1HX\, United Kingdom
CATEGORIES:Support & Wellbeing
END:VEVENT
BEGIN:VEVENT
DTSTART;TZID=Europe/London:20270107T140000
DTEND;TZID=Europe/London:20270107T160000
DTSTAMP:20260426T051057
CREATED:20260417T133753Z
LAST-MODIFIED:20260417T133753Z
UID:10002277-1799330400-1799337600@gl3communityhub.org.uk
SUMMARY:First Thursday Group
DESCRIPTION:Thursday (1st) – Social Group (Older Adults) – 2.00pm – 4.00pm
URL:https://gl3communityhub.org.uk/event/first-thursday-group/2027-01-07/
LOCATION:GL3 Community Hub\, Cheltenham Road East\, Churchdown\, Gloucester\, GL3 1HX\, United Kingdom
CATEGORIES:Support & Wellbeing
END:VEVENT
BEGIN:VEVENT
DTSTART;TZID=Europe/London:20270107T193000
DTEND;TZID=Europe/London:20270107T213000
DTSTAMP:20260426T051057
CREATED:20260417T133001Z
LAST-MODIFIED:20260417T133042Z
UID:10000821-1799350200-1799357400@gl3communityhub.org.uk
SUMMARY:Gloucestershire Gamblers Anonymous
DESCRIPTION:Monday (Except Bank Holidays) – Support Group – 7.00pm – 9.00pm\nThursday – Support Group – 7.30pm – 9.30pm
URL:https://gl3communityhub.org.uk/event/gloucestershire-gamblers-anonymous-thursday/2027-01-07/
LOCATION:GL3 Community Hub\, Cheltenham Road East\, Churchdown\, Gloucester\, GL3 1HX\, United Kingdom
CATEGORIES:Support & Wellbeing
END:VEVENT
BEGIN:VEVENT
DTSTART;TZID=Europe/London:20270110T183000
DTEND;TZID=Europe/London:20270110T203000
DTSTAMP:20260426T051057
CREATED:20260417T133214Z
LAST-MODIFIED:20260417T133214Z
UID:10001083-1799605800-1799613000@gl3communityhub.org.uk
SUMMARY:Alcoholics Anonymous
DESCRIPTION:Sunday – Support Group – 6.30pm – 8.30pm
URL:https://gl3communityhub.org.uk/event/alcoholics-anonymous/2027-01-10/
LOCATION:GL3 Community Hub\, Cheltenham Road East\, Churchdown\, Gloucester\, GL3 1HX\, United Kingdom
CATEGORIES:Support & Wellbeing
END:VEVENT
BEGIN:VEVENT
DTSTART;TZID=Europe/London:20270111T190000
DTEND;TZID=Europe/London:20270111T210000
DTSTAMP:20260426T051057
CREATED:20260417T132916Z
LAST-MODIFIED:20260417T132932Z
UID:10000300-1799694000-1799701200@gl3communityhub.org.uk
SUMMARY:Gloucestershire Gamblers Anonymous
DESCRIPTION:Monday (Except Bank Holidays) – Support Group – 7.00pm – 9.00pm\nThursday – Support Group – 7.30pm – 9.30pm
URL:https://gl3communityhub.org.uk/event/gloucestershire-gamblers-anonymous-monday/2027-01-11/
LOCATION:GL3 Community Hub\, Cheltenham Road East\, Churchdown\, Gloucester\, GL3 1HX\, United Kingdom
CATEGORIES:Support & Wellbeing
END:VEVENT
BEGIN:VEVENT
DTSTART;TZID=Europe/London:20270112T100000
DTEND;TZID=Europe/London:20270112T110000
DTSTAMP:20260426T051057
CREATED:20260417T133853Z
LAST-MODIFIED:20260417T133853Z
UID:10002628-1799748000-1799751600@gl3communityhub.org.uk
SUMMARY:Tuesday Walkers
DESCRIPTION:Tuesday – Social Walking Group (Meet Outside) – 10.00am – 11.00am
URL:https://gl3communityhub.org.uk/event/tuesday-walkers/2027-01-12/
LOCATION:GL3 Community Hub\, Cheltenham Road East\, Churchdown\, Gloucester\, GL3 1HX\, United Kingdom
CATEGORIES:Support & Wellbeing
END:VEVENT
BEGIN:VEVENT
DTSTART;TZID=Europe/London:20270113T100000
DTEND;TZID=Europe/London:20270113T120000
DTSTAMP:20260426T051057
CREATED:20260417T133722Z
LAST-MODIFIED:20260417T133722Z
UID:10002046-1799834400-1799841600@gl3communityhub.org.uk
SUMMARY:Breastfeeding Support Network
DESCRIPTION:Wednesday – Parent & Baby Support – 10.00am – 12.00pm
URL:https://gl3communityhub.org.uk/event/breastfeeding-support-network/2027-01-13/
LOCATION:GL3 Community Hub\, Cheltenham Road East\, Churchdown\, Gloucester\, GL3 1HX\, United Kingdom
CATEGORIES:Support & Wellbeing
END:VEVENT
BEGIN:VEVENT
DTSTART;TZID=Europe/London:20270113T123000
DTEND;TZID=Europe/London:20270113T143000
DTSTAMP:20260426T051057
CREATED:20260417T133825Z
LAST-MODIFIED:20260417T133825Z
UID:10002367-1799843400-1799850600@gl3communityhub.org.uk
SUMMARY:Wellbeing Wednesdays
DESCRIPTION:Wednesday – Social & Wellbeing Activities – 12.30pm – 2.30pm
URL:https://gl3communityhub.org.uk/event/wellbeing-wednesdays/2027-01-13/
LOCATION:GL3 Community Hub\, Cheltenham Road East\, Churchdown\, Gloucester\, GL3 1HX\, United Kingdom
CATEGORIES:Support & Wellbeing
END:VEVENT
BEGIN:VEVENT
DTSTART;TZID=Europe/London:20270113T140000
DTEND;TZID=Europe/London:20270113T160000
DTSTAMP:20260426T051057
CREATED:20260417T133936Z
LAST-MODIFIED:20260417T133936Z
UID:10002889-1799848800-1799856000@gl3communityhub.org.uk
SUMMARY:Knit & Natter
DESCRIPTION:Wednesday – Social Group – 2.00pm – 4.00pm
URL:https://gl3communityhub.org.uk/event/knit-natter/2027-01-13/
LOCATION:GL3 Community Hub\, Cheltenham Road East\, Churchdown\, Gloucester\, GL3 1HX\, United Kingdom
CATEGORIES:Support & Wellbeing
END:VEVENT
BEGIN:VEVENT
DTSTART;TZID=Europe/London:20270113T190000
DTEND;TZID=Europe/London:20270113T213000
DTSTAMP:20260426T051057
CREATED:20260417T131439Z
LAST-MODIFIED:20260417T131439Z
UID:10000039-1799866800-1799875800@gl3communityhub.org.uk
SUMMARY:Man Down – Men’s Mental Health Group
DESCRIPTION:
URL:https://gl3communityhub.org.uk/event/man-down-mens-mental-health-group/2027-01-13/
CATEGORIES:Support & Wellbeing
END:VEVENT
END:VCALENDAR