BEGIN:VCALENDAR
VERSION:2.0
PRODID:-//GL3 Community Hub - ECPv6.15.20//NONSGML v1.0//EN
CALSCALE:GREGORIAN
METHOD:PUBLISH
X-ORIGINAL-URL:https://gl3communityhub.org.uk
X-WR-CALDESC:Events for GL3 Community Hub
REFRESH-INTERVAL;VALUE=DURATION:PT1H
X-Robots-Tag:noindex
X-PUBLISHED-TTL:PT1H
BEGIN:VTIMEZONE
TZID:Europe/London
BEGIN:DAYLIGHT
TZOFFSETFROM:+0000
TZOFFSETTO:+0100
TZNAME:BST
DTSTART:20250330T010000
END:DAYLIGHT
BEGIN:STANDARD
TZOFFSETFROM:+0100
TZOFFSETTO:+0000
TZNAME:GMT
DTSTART:20251026T010000
END:STANDARD
BEGIN:DAYLIGHT
TZOFFSETFROM:+0000
TZOFFSETTO:+0100
TZNAME:BST
DTSTART:20260329T010000
END:DAYLIGHT
BEGIN:STANDARD
TZOFFSETFROM:+0100
TZOFFSETTO:+0000
TZNAME:GMT
DTSTART:20261025T010000
END:STANDARD
BEGIN:DAYLIGHT
TZOFFSETFROM:+0000
TZOFFSETTO:+0100
TZNAME:BST
DTSTART:20270328T010000
END:DAYLIGHT
BEGIN:STANDARD
TZOFFSETFROM:+0100
TZOFFSETTO:+0000
TZNAME:GMT
DTSTART:20271031T010000
END:STANDARD
END:VTIMEZONE
BEGIN:VEVENT
DTSTART;TZID=Europe/London:20260928T190000
DTEND;TZID=Europe/London:20260928T210000
DTSTAMP:20260423T082214
CREATED:20260417T132916Z
LAST-MODIFIED:20260417T132932Z
UID:10000285-1790622000-1790629200@gl3communityhub.org.uk
SUMMARY:Gloucestershire Gamblers Anonymous
DESCRIPTION:Monday (Except Bank Holidays) – Support Group – 7.00pm – 9.00pm\nThursday – Support Group – 7.30pm – 9.30pm
URL:https://gl3communityhub.org.uk/event/gloucestershire-gamblers-anonymous-monday/2026-09-28/
LOCATION:GL3 Community Hub\, Cheltenham Road East\, Churchdown\, Gloucester\, GL3 1HX\, United Kingdom
CATEGORIES:Support & Wellbeing
END:VEVENT
BEGIN:VEVENT
DTSTART;TZID=Europe/London:20260929T100000
DTEND;TZID=Europe/London:20260929T110000
DTSTAMP:20260423T082214
CREATED:20260417T133853Z
LAST-MODIFIED:20260417T133853Z
UID:10002613-1790676000-1790679600@gl3communityhub.org.uk
SUMMARY:Tuesday Walkers
DESCRIPTION:Tuesday – Social Walking Group (Meet Outside) – 10.00am – 11.00am
URL:https://gl3communityhub.org.uk/event/tuesday-walkers/2026-09-29/
LOCATION:GL3 Community Hub\, Cheltenham Road East\, Churchdown\, Gloucester\, GL3 1HX\, United Kingdom
CATEGORIES:Support & Wellbeing
END:VEVENT
BEGIN:VEVENT
DTSTART;TZID=Europe/London:20260930T100000
DTEND;TZID=Europe/London:20260930T120000
DTSTAMP:20260423T082214
CREATED:20260417T133722Z
LAST-MODIFIED:20260417T133722Z
UID:10002031-1790762400-1790769600@gl3communityhub.org.uk
SUMMARY:Breastfeeding Support Network
DESCRIPTION:Wednesday – Parent & Baby Support – 10.00am – 12.00pm
URL:https://gl3communityhub.org.uk/event/breastfeeding-support-network/2026-09-30/
LOCATION:GL3 Community Hub\, Cheltenham Road East\, Churchdown\, Gloucester\, GL3 1HX\, United Kingdom
CATEGORIES:Support & Wellbeing
END:VEVENT
BEGIN:VEVENT
DTSTART;TZID=Europe/London:20260930T123000
DTEND;TZID=Europe/London:20260930T143000
DTSTAMP:20260423T082214
CREATED:20260417T133825Z
LAST-MODIFIED:20260417T133825Z
UID:10002352-1790771400-1790778600@gl3communityhub.org.uk
SUMMARY:Wellbeing Wednesdays
DESCRIPTION:Wednesday – Social & Wellbeing Activities – 12.30pm – 2.30pm
URL:https://gl3communityhub.org.uk/event/wellbeing-wednesdays/2026-09-30/
LOCATION:GL3 Community Hub\, Cheltenham Road East\, Churchdown\, Gloucester\, GL3 1HX\, United Kingdom
CATEGORIES:Support & Wellbeing
END:VEVENT
BEGIN:VEVENT
DTSTART;TZID=Europe/London:20260930T140000
DTEND;TZID=Europe/London:20260930T160000
DTSTAMP:20260423T082214
CREATED:20260417T133936Z
LAST-MODIFIED:20260417T133936Z
UID:10002874-1790776800-1790784000@gl3communityhub.org.uk
SUMMARY:Knit & Natter
DESCRIPTION:Wednesday – Social Group – 2.00pm – 4.00pm
URL:https://gl3communityhub.org.uk/event/knit-natter/2026-09-30/
LOCATION:GL3 Community Hub\, Cheltenham Road East\, Churchdown\, Gloucester\, GL3 1HX\, United Kingdom
CATEGORIES:Support & Wellbeing
END:VEVENT
BEGIN:VEVENT
DTSTART;TZID=Europe/London:20260930T190000
DTEND;TZID=Europe/London:20260930T213000
DTSTAMP:20260423T082214
CREATED:20260417T131439Z
LAST-MODIFIED:20260417T131439Z
UID:10000024-1790794800-1790803800@gl3communityhub.org.uk
SUMMARY:Man Down – Men’s Mental Health Group
DESCRIPTION:
URL:https://gl3communityhub.org.uk/event/man-down-mens-mental-health-group/2026-09-30/
CATEGORIES:Support & Wellbeing
END:VEVENT
BEGIN:VEVENT
DTSTART;TZID=Europe/London:20261001T100000
DTEND;TZID=Europe/London:20261001T120000
DTSTAMP:20260423T082214
CREATED:20260417T133330Z
LAST-MODIFIED:20260417T133330Z
UID:10001590-1790848800-1790856000@gl3communityhub.org.uk
SUMMARY:Bromford Housing Drop-In
DESCRIPTION:Thursday – Housing Advice – 10.00am – 12.00pm
URL:https://gl3communityhub.org.uk/event/bromford-housing-drop-in/2026-10-01/
LOCATION:GL3 Community Hub\, Cheltenham Road East\, Churchdown\, Gloucester\, GL3 1HX\, United Kingdom
CATEGORIES:Support & Wellbeing
END:VEVENT
BEGIN:VEVENT
DTSTART;TZID=Europe/London:20261001T110000
DTEND;TZID=Europe/London:20261001T130000
DTSTAMP:20260423T082214
CREATED:20260417T133247Z
LAST-MODIFIED:20260417T133247Z
UID:10001329-1790852400-1790859600@gl3communityhub.org.uk
SUMMARY:Hungry No More Foodbank
DESCRIPTION:Thursday – Food Support (Assessment Required) – 11.00am – 1.00pm
URL:https://gl3communityhub.org.uk/event/hungry-no-more-foodbank/2026-10-01/
LOCATION:GL3 Community Hub\, Cheltenham Road East\, Churchdown\, Gloucester\, GL3 1HX\, United Kingdom
CATEGORIES:Support & Wellbeing
END:VEVENT
BEGIN:VEVENT
DTSTART;TZID=Europe/London:20261001T140000
DTEND;TZID=Europe/London:20261001T160000
DTSTAMP:20260423T082214
CREATED:20260417T133753Z
LAST-MODIFIED:20260417T133753Z
UID:10002274-1790863200-1790870400@gl3communityhub.org.uk
SUMMARY:First Thursday Group
DESCRIPTION:Thursday (1st) – Social Group (Older Adults) – 2.00pm – 4.00pm
URL:https://gl3communityhub.org.uk/event/first-thursday-group/2026-10-01/
LOCATION:GL3 Community Hub\, Cheltenham Road East\, Churchdown\, Gloucester\, GL3 1HX\, United Kingdom
CATEGORIES:Support & Wellbeing
END:VEVENT
BEGIN:VEVENT
DTSTART;TZID=Europe/London:20261001T193000
DTEND;TZID=Europe/London:20261001T213000
DTSTAMP:20260423T082214
CREATED:20260417T133001Z
LAST-MODIFIED:20260417T133042Z
UID:10000807-1790883000-1790890200@gl3communityhub.org.uk
SUMMARY:Gloucestershire Gamblers Anonymous
DESCRIPTION:Monday (Except Bank Holidays) – Support Group – 7.00pm – 9.00pm\nThursday – Support Group – 7.30pm – 9.30pm
URL:https://gl3communityhub.org.uk/event/gloucestershire-gamblers-anonymous-thursday/2026-10-01/
LOCATION:GL3 Community Hub\, Cheltenham Road East\, Churchdown\, Gloucester\, GL3 1HX\, United Kingdom
CATEGORIES:Support & Wellbeing
END:VEVENT
BEGIN:VEVENT
DTSTART;TZID=Europe/London:20261004T183000
DTEND;TZID=Europe/London:20261004T203000
DTSTAMP:20260423T082214
CREATED:20260417T133214Z
LAST-MODIFIED:20260417T133214Z
UID:10001069-1791138600-1791145800@gl3communityhub.org.uk
SUMMARY:Alcoholics Anonymous
DESCRIPTION:Sunday – Support Group – 6.30pm – 8.30pm
URL:https://gl3communityhub.org.uk/event/alcoholics-anonymous/2026-10-04/
LOCATION:GL3 Community Hub\, Cheltenham Road East\, Churchdown\, Gloucester\, GL3 1HX\, United Kingdom
CATEGORIES:Support & Wellbeing
END:VEVENT
BEGIN:VEVENT
DTSTART;TZID=Europe/London:20261005T190000
DTEND;TZID=Europe/London:20261005T210000
DTSTAMP:20260423T082214
CREATED:20260417T132916Z
LAST-MODIFIED:20260417T132932Z
UID:10000286-1791226800-1791234000@gl3communityhub.org.uk
SUMMARY:Gloucestershire Gamblers Anonymous
DESCRIPTION:Monday (Except Bank Holidays) – Support Group – 7.00pm – 9.00pm\nThursday – Support Group – 7.30pm – 9.30pm
URL:https://gl3communityhub.org.uk/event/gloucestershire-gamblers-anonymous-monday/2026-10-05/
LOCATION:GL3 Community Hub\, Cheltenham Road East\, Churchdown\, Gloucester\, GL3 1HX\, United Kingdom
CATEGORIES:Support & Wellbeing
END:VEVENT
BEGIN:VEVENT
DTSTART;TZID=Europe/London:20261006T100000
DTEND;TZID=Europe/London:20261006T110000
DTSTAMP:20260423T082214
CREATED:20260417T133853Z
LAST-MODIFIED:20260417T133853Z
UID:10002614-1791280800-1791284400@gl3communityhub.org.uk
SUMMARY:Tuesday Walkers
DESCRIPTION:Tuesday – Social Walking Group (Meet Outside) – 10.00am – 11.00am
URL:https://gl3communityhub.org.uk/event/tuesday-walkers/2026-10-06/
LOCATION:GL3 Community Hub\, Cheltenham Road East\, Churchdown\, Gloucester\, GL3 1HX\, United Kingdom
CATEGORIES:Support & Wellbeing
END:VEVENT
BEGIN:VEVENT
DTSTART;TZID=Europe/London:20261007T100000
DTEND;TZID=Europe/London:20261007T120000
DTSTAMP:20260423T082214
CREATED:20260417T133722Z
LAST-MODIFIED:20260417T133722Z
UID:10002032-1791367200-1791374400@gl3communityhub.org.uk
SUMMARY:Breastfeeding Support Network
DESCRIPTION:Wednesday – Parent & Baby Support – 10.00am – 12.00pm
URL:https://gl3communityhub.org.uk/event/breastfeeding-support-network/2026-10-07/
LOCATION:GL3 Community Hub\, Cheltenham Road East\, Churchdown\, Gloucester\, GL3 1HX\, United Kingdom
CATEGORIES:Support & Wellbeing
END:VEVENT
BEGIN:VEVENT
DTSTART;TZID=Europe/London:20261007T123000
DTEND;TZID=Europe/London:20261007T143000
DTSTAMP:20260423T082214
CREATED:20260417T133825Z
LAST-MODIFIED:20260417T133825Z
UID:10002353-1791376200-1791383400@gl3communityhub.org.uk
SUMMARY:Wellbeing Wednesdays
DESCRIPTION:Wednesday – Social & Wellbeing Activities – 12.30pm – 2.30pm
URL:https://gl3communityhub.org.uk/event/wellbeing-wednesdays/2026-10-07/
LOCATION:GL3 Community Hub\, Cheltenham Road East\, Churchdown\, Gloucester\, GL3 1HX\, United Kingdom
CATEGORIES:Support & Wellbeing
END:VEVENT
BEGIN:VEVENT
DTSTART;TZID=Europe/London:20261007T140000
DTEND;TZID=Europe/London:20261007T160000
DTSTAMP:20260423T082214
CREATED:20260417T133936Z
LAST-MODIFIED:20260417T133936Z
UID:10002875-1791381600-1791388800@gl3communityhub.org.uk
SUMMARY:Knit & Natter
DESCRIPTION:Wednesday – Social Group – 2.00pm – 4.00pm
URL:https://gl3communityhub.org.uk/event/knit-natter/2026-10-07/
LOCATION:GL3 Community Hub\, Cheltenham Road East\, Churchdown\, Gloucester\, GL3 1HX\, United Kingdom
CATEGORIES:Support & Wellbeing
END:VEVENT
BEGIN:VEVENT
DTSTART;TZID=Europe/London:20261007T190000
DTEND;TZID=Europe/London:20261007T213000
DTSTAMP:20260423T082214
CREATED:20260417T131439Z
LAST-MODIFIED:20260417T131439Z
UID:10000025-1791399600-1791408600@gl3communityhub.org.uk
SUMMARY:Man Down – Men’s Mental Health Group
DESCRIPTION:
URL:https://gl3communityhub.org.uk/event/man-down-mens-mental-health-group/2026-10-07/
CATEGORIES:Support & Wellbeing
END:VEVENT
BEGIN:VEVENT
DTSTART;TZID=Europe/London:20261008T100000
DTEND;TZID=Europe/London:20261008T120000
DTSTAMP:20260423T082214
CREATED:20260417T133330Z
LAST-MODIFIED:20260417T133330Z
UID:10001591-1791453600-1791460800@gl3communityhub.org.uk
SUMMARY:Bromford Housing Drop-In
DESCRIPTION:Thursday – Housing Advice – 10.00am – 12.00pm
URL:https://gl3communityhub.org.uk/event/bromford-housing-drop-in/2026-10-08/
LOCATION:GL3 Community Hub\, Cheltenham Road East\, Churchdown\, Gloucester\, GL3 1HX\, United Kingdom
CATEGORIES:Support & Wellbeing
END:VEVENT
BEGIN:VEVENT
DTSTART;TZID=Europe/London:20261008T110000
DTEND;TZID=Europe/London:20261008T130000
DTSTAMP:20260423T082214
CREATED:20260417T133247Z
LAST-MODIFIED:20260417T133247Z
UID:10001330-1791457200-1791464400@gl3communityhub.org.uk
SUMMARY:Hungry No More Foodbank
DESCRIPTION:Thursday – Food Support (Assessment Required) – 11.00am – 1.00pm
URL:https://gl3communityhub.org.uk/event/hungry-no-more-foodbank/2026-10-08/
LOCATION:GL3 Community Hub\, Cheltenham Road East\, Churchdown\, Gloucester\, GL3 1HX\, United Kingdom
CATEGORIES:Support & Wellbeing
END:VEVENT
BEGIN:VEVENT
DTSTART;TZID=Europe/London:20261008T130000
DTEND;TZID=Europe/London:20261008T140000
DTSTAMP:20260423T082214
CREATED:20260417T133549Z
LAST-MODIFIED:20260417T133639Z
UID:10001953-1791464400-1791468000@gl3communityhub.org.uk
SUMMARY:Caring for Communities & People Drop-In
DESCRIPTION:Thursday (2nd & 4th) – Housing & Financial Support – 1.00pm – 2.00pm
URL:https://gl3communityhub.org.uk/event/caring-for-communities-people-drop-in-2t/2026-10-08/
LOCATION:GL3 Community Hub\, Cheltenham Road East\, Churchdown\, Gloucester\, GL3 1HX\, United Kingdom
CATEGORIES:Support & Wellbeing
END:VEVENT
BEGIN:VEVENT
DTSTART;TZID=Europe/London:20261008T193000
DTEND;TZID=Europe/London:20261008T213000
DTSTAMP:20260423T082214
CREATED:20260417T133001Z
LAST-MODIFIED:20260417T133042Z
UID:10000808-1791487800-1791495000@gl3communityhub.org.uk
SUMMARY:Gloucestershire Gamblers Anonymous
DESCRIPTION:Monday (Except Bank Holidays) – Support Group – 7.00pm – 9.00pm\nThursday – Support Group – 7.30pm – 9.30pm
URL:https://gl3communityhub.org.uk/event/gloucestershire-gamblers-anonymous-thursday/2026-10-08/
LOCATION:GL3 Community Hub\, Cheltenham Road East\, Churchdown\, Gloucester\, GL3 1HX\, United Kingdom
CATEGORIES:Support & Wellbeing
END:VEVENT
BEGIN:VEVENT
DTSTART;TZID=Europe/London:20261011T183000
DTEND;TZID=Europe/London:20261011T203000
DTSTAMP:20260423T082214
CREATED:20260417T133214Z
LAST-MODIFIED:20260417T133214Z
UID:10001070-1791743400-1791750600@gl3communityhub.org.uk
SUMMARY:Alcoholics Anonymous
DESCRIPTION:Sunday – Support Group – 6.30pm – 8.30pm
URL:https://gl3communityhub.org.uk/event/alcoholics-anonymous/2026-10-11/
LOCATION:GL3 Community Hub\, Cheltenham Road East\, Churchdown\, Gloucester\, GL3 1HX\, United Kingdom
CATEGORIES:Support & Wellbeing
END:VEVENT
BEGIN:VEVENT
DTSTART;TZID=Europe/London:20261012T190000
DTEND;TZID=Europe/London:20261012T210000
DTSTAMP:20260423T082214
CREATED:20260417T132916Z
LAST-MODIFIED:20260417T132932Z
UID:10000287-1791831600-1791838800@gl3communityhub.org.uk
SUMMARY:Gloucestershire Gamblers Anonymous
DESCRIPTION:Monday (Except Bank Holidays) – Support Group – 7.00pm – 9.00pm\nThursday – Support Group – 7.30pm – 9.30pm
URL:https://gl3communityhub.org.uk/event/gloucestershire-gamblers-anonymous-monday/2026-10-12/
LOCATION:GL3 Community Hub\, Cheltenham Road East\, Churchdown\, Gloucester\, GL3 1HX\, United Kingdom
CATEGORIES:Support & Wellbeing
END:VEVENT
BEGIN:VEVENT
DTSTART;TZID=Europe/London:20261013T100000
DTEND;TZID=Europe/London:20261013T110000
DTSTAMP:20260423T082214
CREATED:20260417T133853Z
LAST-MODIFIED:20260417T133853Z
UID:10002615-1791885600-1791889200@gl3communityhub.org.uk
SUMMARY:Tuesday Walkers
DESCRIPTION:Tuesday – Social Walking Group (Meet Outside) – 10.00am – 11.00am
URL:https://gl3communityhub.org.uk/event/tuesday-walkers/2026-10-13/
LOCATION:GL3 Community Hub\, Cheltenham Road East\, Churchdown\, Gloucester\, GL3 1HX\, United Kingdom
CATEGORIES:Support & Wellbeing
END:VEVENT
BEGIN:VEVENT
DTSTART;TZID=Europe/London:20261014T100000
DTEND;TZID=Europe/London:20261014T120000
DTSTAMP:20260423T082214
CREATED:20260417T133722Z
LAST-MODIFIED:20260417T133722Z
UID:10002033-1791972000-1791979200@gl3communityhub.org.uk
SUMMARY:Breastfeeding Support Network
DESCRIPTION:Wednesday – Parent & Baby Support – 10.00am – 12.00pm
URL:https://gl3communityhub.org.uk/event/breastfeeding-support-network/2026-10-14/
LOCATION:GL3 Community Hub\, Cheltenham Road East\, Churchdown\, Gloucester\, GL3 1HX\, United Kingdom
CATEGORIES:Support & Wellbeing
END:VEVENT
BEGIN:VEVENT
DTSTART;TZID=Europe/London:20261014T123000
DTEND;TZID=Europe/London:20261014T143000
DTSTAMP:20260423T082214
CREATED:20260417T133825Z
LAST-MODIFIED:20260417T133825Z
UID:10002354-1791981000-1791988200@gl3communityhub.org.uk
SUMMARY:Wellbeing Wednesdays
DESCRIPTION:Wednesday – Social & Wellbeing Activities – 12.30pm – 2.30pm
URL:https://gl3communityhub.org.uk/event/wellbeing-wednesdays/2026-10-14/
LOCATION:GL3 Community Hub\, Cheltenham Road East\, Churchdown\, Gloucester\, GL3 1HX\, United Kingdom
CATEGORIES:Support & Wellbeing
END:VEVENT
BEGIN:VEVENT
DTSTART;TZID=Europe/London:20261014T140000
DTEND;TZID=Europe/London:20261014T160000
DTSTAMP:20260423T082214
CREATED:20260417T133936Z
LAST-MODIFIED:20260417T133936Z
UID:10002876-1791986400-1791993600@gl3communityhub.org.uk
SUMMARY:Knit & Natter
DESCRIPTION:Wednesday – Social Group – 2.00pm – 4.00pm
URL:https://gl3communityhub.org.uk/event/knit-natter/2026-10-14/
LOCATION:GL3 Community Hub\, Cheltenham Road East\, Churchdown\, Gloucester\, GL3 1HX\, United Kingdom
CATEGORIES:Support & Wellbeing
END:VEVENT
BEGIN:VEVENT
DTSTART;TZID=Europe/London:20261014T190000
DTEND;TZID=Europe/London:20261014T213000
DTSTAMP:20260423T082214
CREATED:20260417T131439Z
LAST-MODIFIED:20260417T131439Z
UID:10000026-1792004400-1792013400@gl3communityhub.org.uk
SUMMARY:Man Down – Men’s Mental Health Group
DESCRIPTION:
URL:https://gl3communityhub.org.uk/event/man-down-mens-mental-health-group/2026-10-14/
CATEGORIES:Support & Wellbeing
END:VEVENT
BEGIN:VEVENT
DTSTART;TZID=Europe/London:20261015T100000
DTEND;TZID=Europe/London:20261015T120000
DTSTAMP:20260423T082214
CREATED:20260417T133330Z
LAST-MODIFIED:20260417T133330Z
UID:10001592-1792058400-1792065600@gl3communityhub.org.uk
SUMMARY:Bromford Housing Drop-In
DESCRIPTION:Thursday – Housing Advice – 10.00am – 12.00pm
URL:https://gl3communityhub.org.uk/event/bromford-housing-drop-in/2026-10-15/
LOCATION:GL3 Community Hub\, Cheltenham Road East\, Churchdown\, Gloucester\, GL3 1HX\, United Kingdom
CATEGORIES:Support & Wellbeing
END:VEVENT
BEGIN:VEVENT
DTSTART;TZID=Europe/London:20261015T110000
DTEND;TZID=Europe/London:20261015T130000
DTSTAMP:20260423T082214
CREATED:20260417T133247Z
LAST-MODIFIED:20260417T133247Z
UID:10001331-1792062000-1792069200@gl3communityhub.org.uk
SUMMARY:Hungry No More Foodbank
DESCRIPTION:Thursday – Food Support (Assessment Required) – 11.00am – 1.00pm
URL:https://gl3communityhub.org.uk/event/hungry-no-more-foodbank/2026-10-15/
LOCATION:GL3 Community Hub\, Cheltenham Road East\, Churchdown\, Gloucester\, GL3 1HX\, United Kingdom
CATEGORIES:Support & Wellbeing
END:VEVENT
END:VCALENDAR