BEGIN:VCALENDAR
VERSION:2.0
PRODID:-//GL3 Community Hub - ECPv6.15.20//NONSGML v1.0//EN
CALSCALE:GREGORIAN
METHOD:PUBLISH
X-ORIGINAL-URL:https://gl3communityhub.org.uk
X-WR-CALDESC:Events for GL3 Community Hub
REFRESH-INTERVAL;VALUE=DURATION:PT1H
X-Robots-Tag:noindex
X-PUBLISHED-TTL:PT1H
BEGIN:VTIMEZONE
TZID:Europe/London
BEGIN:DAYLIGHT
TZOFFSETFROM:+0000
TZOFFSETTO:+0100
TZNAME:BST
DTSTART:20250330T010000
END:DAYLIGHT
BEGIN:STANDARD
TZOFFSETFROM:+0100
TZOFFSETTO:+0000
TZNAME:GMT
DTSTART:20251026T010000
END:STANDARD
BEGIN:DAYLIGHT
TZOFFSETFROM:+0000
TZOFFSETTO:+0100
TZNAME:BST
DTSTART:20260329T010000
END:DAYLIGHT
BEGIN:STANDARD
TZOFFSETFROM:+0100
TZOFFSETTO:+0000
TZNAME:GMT
DTSTART:20261025T010000
END:STANDARD
BEGIN:DAYLIGHT
TZOFFSETFROM:+0000
TZOFFSETTO:+0100
TZNAME:BST
DTSTART:20270328T010000
END:DAYLIGHT
BEGIN:STANDARD
TZOFFSETFROM:+0100
TZOFFSETTO:+0000
TZNAME:GMT
DTSTART:20271031T010000
END:STANDARD
END:VTIMEZONE
BEGIN:VEVENT
DTSTART;TZID=Europe/London:20260726T183000
DTEND;TZID=Europe/London:20260726T203000
DTSTAMP:20260422T181540
CREATED:20260417T133214Z
LAST-MODIFIED:20260417T133214Z
UID:10001059-1785090600-1785097800@gl3communityhub.org.uk
SUMMARY:Alcoholics Anonymous
DESCRIPTION:Sunday – Support Group – 6.30pm – 8.30pm
URL:https://gl3communityhub.org.uk/event/alcoholics-anonymous/2026-07-26/
LOCATION:GL3 Community Hub\, Cheltenham Road East\, Churchdown\, Gloucester\, GL3 1HX\, United Kingdom
CATEGORIES:Support & Wellbeing
END:VEVENT
BEGIN:VEVENT
DTSTART;TZID=Europe/London:20260727T190000
DTEND;TZID=Europe/London:20260727T210000
DTSTAMP:20260422T181540
CREATED:20260417T132916Z
LAST-MODIFIED:20260417T132932Z
UID:10000276-1785178800-1785186000@gl3communityhub.org.uk
SUMMARY:Gloucestershire Gamblers Anonymous
DESCRIPTION:Monday (Except Bank Holidays) – Support Group – 7.00pm – 9.00pm\nThursday – Support Group – 7.30pm – 9.30pm
URL:https://gl3communityhub.org.uk/event/gloucestershire-gamblers-anonymous-monday/2026-07-27/
LOCATION:GL3 Community Hub\, Cheltenham Road East\, Churchdown\, Gloucester\, GL3 1HX\, United Kingdom
CATEGORIES:Support & Wellbeing
END:VEVENT
BEGIN:VEVENT
DTSTART;TZID=Europe/London:20260728T100000
DTEND;TZID=Europe/London:20260728T110000
DTSTAMP:20260422T181541
CREATED:20260417T133853Z
LAST-MODIFIED:20260417T133853Z
UID:10002604-1785232800-1785236400@gl3communityhub.org.uk
SUMMARY:Tuesday Walkers
DESCRIPTION:Tuesday – Social Walking Group (Meet Outside) – 10.00am – 11.00am
URL:https://gl3communityhub.org.uk/event/tuesday-walkers/2026-07-28/
LOCATION:GL3 Community Hub\, Cheltenham Road East\, Churchdown\, Gloucester\, GL3 1HX\, United Kingdom
CATEGORIES:Support & Wellbeing
END:VEVENT
BEGIN:VEVENT
DTSTART;TZID=Europe/London:20260729T100000
DTEND;TZID=Europe/London:20260729T120000
DTSTAMP:20260422T181541
CREATED:20260417T133722Z
LAST-MODIFIED:20260417T133722Z
UID:10002022-1785319200-1785326400@gl3communityhub.org.uk
SUMMARY:Breastfeeding Support Network
DESCRIPTION:Wednesday – Parent & Baby Support – 10.00am – 12.00pm
URL:https://gl3communityhub.org.uk/event/breastfeeding-support-network/2026-07-29/
LOCATION:GL3 Community Hub\, Cheltenham Road East\, Churchdown\, Gloucester\, GL3 1HX\, United Kingdom
CATEGORIES:Support & Wellbeing
END:VEVENT
BEGIN:VEVENT
DTSTART;TZID=Europe/London:20260729T123000
DTEND;TZID=Europe/London:20260729T143000
DTSTAMP:20260422T181541
CREATED:20260417T133825Z
LAST-MODIFIED:20260417T133825Z
UID:10002343-1785328200-1785335400@gl3communityhub.org.uk
SUMMARY:Wellbeing Wednesdays
DESCRIPTION:Wednesday – Social & Wellbeing Activities – 12.30pm – 2.30pm
URL:https://gl3communityhub.org.uk/event/wellbeing-wednesdays/2026-07-29/
LOCATION:GL3 Community Hub\, Cheltenham Road East\, Churchdown\, Gloucester\, GL3 1HX\, United Kingdom
CATEGORIES:Support & Wellbeing
END:VEVENT
BEGIN:VEVENT
DTSTART;TZID=Europe/London:20260729T140000
DTEND;TZID=Europe/London:20260729T160000
DTSTAMP:20260422T181541
CREATED:20260417T133936Z
LAST-MODIFIED:20260417T133936Z
UID:10002865-1785333600-1785340800@gl3communityhub.org.uk
SUMMARY:Knit & Natter
DESCRIPTION:Wednesday – Social Group – 2.00pm – 4.00pm
URL:https://gl3communityhub.org.uk/event/knit-natter/2026-07-29/
LOCATION:GL3 Community Hub\, Cheltenham Road East\, Churchdown\, Gloucester\, GL3 1HX\, United Kingdom
CATEGORIES:Support & Wellbeing
END:VEVENT
BEGIN:VEVENT
DTSTART;TZID=Europe/London:20260729T190000
DTEND;TZID=Europe/London:20260729T213000
DTSTAMP:20260422T181541
CREATED:20260417T131439Z
LAST-MODIFIED:20260417T131439Z
UID:10000015-1785351600-1785360600@gl3communityhub.org.uk
SUMMARY:Man Down – Men’s Mental Health Group
DESCRIPTION:
URL:https://gl3communityhub.org.uk/event/man-down-mens-mental-health-group/2026-07-29/
CATEGORIES:Support & Wellbeing
END:VEVENT
BEGIN:VEVENT
DTSTART;TZID=Europe/London:20260730T100000
DTEND;TZID=Europe/London:20260730T120000
DTSTAMP:20260422T181541
CREATED:20260417T133330Z
LAST-MODIFIED:20260417T133330Z
UID:10001581-1785405600-1785412800@gl3communityhub.org.uk
SUMMARY:Bromford Housing Drop-In
DESCRIPTION:Thursday – Housing Advice – 10.00am – 12.00pm
URL:https://gl3communityhub.org.uk/event/bromford-housing-drop-in/2026-07-30/
LOCATION:GL3 Community Hub\, Cheltenham Road East\, Churchdown\, Gloucester\, GL3 1HX\, United Kingdom
CATEGORIES:Support & Wellbeing
END:VEVENT
BEGIN:VEVENT
DTSTART;TZID=Europe/London:20260730T110000
DTEND;TZID=Europe/London:20260730T130000
DTSTAMP:20260422T181541
CREATED:20260417T133247Z
LAST-MODIFIED:20260417T133247Z
UID:10001320-1785409200-1785416400@gl3communityhub.org.uk
SUMMARY:Hungry No More Foodbank
DESCRIPTION:Thursday – Food Support (Assessment Required) – 11.00am – 1.00pm
URL:https://gl3communityhub.org.uk/event/hungry-no-more-foodbank/2026-07-30/
LOCATION:GL3 Community Hub\, Cheltenham Road East\, Churchdown\, Gloucester\, GL3 1HX\, United Kingdom
CATEGORIES:Support & Wellbeing
END:VEVENT
BEGIN:VEVENT
DTSTART;TZID=Europe/London:20260730T193000
DTEND;TZID=Europe/London:20260730T213000
DTSTAMP:20260422T181541
CREATED:20260417T133001Z
LAST-MODIFIED:20260417T133042Z
UID:10000798-1785439800-1785447000@gl3communityhub.org.uk
SUMMARY:Gloucestershire Gamblers Anonymous
DESCRIPTION:Monday (Except Bank Holidays) – Support Group – 7.00pm – 9.00pm\nThursday – Support Group – 7.30pm – 9.30pm
URL:https://gl3communityhub.org.uk/event/gloucestershire-gamblers-anonymous-thursday/2026-07-30/
LOCATION:GL3 Community Hub\, Cheltenham Road East\, Churchdown\, Gloucester\, GL3 1HX\, United Kingdom
CATEGORIES:Support & Wellbeing
END:VEVENT
BEGIN:VEVENT
DTSTART;TZID=Europe/London:20260802T183000
DTEND;TZID=Europe/London:20260802T203000
DTSTAMP:20260422T181541
CREATED:20260417T133214Z
LAST-MODIFIED:20260417T133214Z
UID:10001060-1785695400-1785702600@gl3communityhub.org.uk
SUMMARY:Alcoholics Anonymous
DESCRIPTION:Sunday – Support Group – 6.30pm – 8.30pm
URL:https://gl3communityhub.org.uk/event/alcoholics-anonymous/2026-08-02/
LOCATION:GL3 Community Hub\, Cheltenham Road East\, Churchdown\, Gloucester\, GL3 1HX\, United Kingdom
CATEGORIES:Support & Wellbeing
END:VEVENT
BEGIN:VEVENT
DTSTART;TZID=Europe/London:20260803T190000
DTEND;TZID=Europe/London:20260803T210000
DTSTAMP:20260422T181541
CREATED:20260417T132916Z
LAST-MODIFIED:20260417T132932Z
UID:10000277-1785783600-1785790800@gl3communityhub.org.uk
SUMMARY:Gloucestershire Gamblers Anonymous
DESCRIPTION:Monday (Except Bank Holidays) – Support Group – 7.00pm – 9.00pm\nThursday – Support Group – 7.30pm – 9.30pm
URL:https://gl3communityhub.org.uk/event/gloucestershire-gamblers-anonymous-monday/2026-08-03/
LOCATION:GL3 Community Hub\, Cheltenham Road East\, Churchdown\, Gloucester\, GL3 1HX\, United Kingdom
CATEGORIES:Support & Wellbeing
END:VEVENT
BEGIN:VEVENT
DTSTART;TZID=Europe/London:20260804T100000
DTEND;TZID=Europe/London:20260804T110000
DTSTAMP:20260422T181541
CREATED:20260417T133853Z
LAST-MODIFIED:20260417T133853Z
UID:10002605-1785837600-1785841200@gl3communityhub.org.uk
SUMMARY:Tuesday Walkers
DESCRIPTION:Tuesday – Social Walking Group (Meet Outside) – 10.00am – 11.00am
URL:https://gl3communityhub.org.uk/event/tuesday-walkers/2026-08-04/
LOCATION:GL3 Community Hub\, Cheltenham Road East\, Churchdown\, Gloucester\, GL3 1HX\, United Kingdom
CATEGORIES:Support & Wellbeing
END:VEVENT
BEGIN:VEVENT
DTSTART;TZID=Europe/London:20260805T100000
DTEND;TZID=Europe/London:20260805T120000
DTSTAMP:20260422T181541
CREATED:20260417T133722Z
LAST-MODIFIED:20260417T133722Z
UID:10002023-1785924000-1785931200@gl3communityhub.org.uk
SUMMARY:Breastfeeding Support Network
DESCRIPTION:Wednesday – Parent & Baby Support – 10.00am – 12.00pm
URL:https://gl3communityhub.org.uk/event/breastfeeding-support-network/2026-08-05/
LOCATION:GL3 Community Hub\, Cheltenham Road East\, Churchdown\, Gloucester\, GL3 1HX\, United Kingdom
CATEGORIES:Support & Wellbeing
END:VEVENT
BEGIN:VEVENT
DTSTART;TZID=Europe/London:20260805T123000
DTEND;TZID=Europe/London:20260805T143000
DTSTAMP:20260422T181541
CREATED:20260417T133825Z
LAST-MODIFIED:20260417T133825Z
UID:10002344-1785933000-1785940200@gl3communityhub.org.uk
SUMMARY:Wellbeing Wednesdays
DESCRIPTION:Wednesday – Social & Wellbeing Activities – 12.30pm – 2.30pm
URL:https://gl3communityhub.org.uk/event/wellbeing-wednesdays/2026-08-05/
LOCATION:GL3 Community Hub\, Cheltenham Road East\, Churchdown\, Gloucester\, GL3 1HX\, United Kingdom
CATEGORIES:Support & Wellbeing
END:VEVENT
BEGIN:VEVENT
DTSTART;TZID=Europe/London:20260805T140000
DTEND;TZID=Europe/London:20260805T160000
DTSTAMP:20260422T181541
CREATED:20260417T133936Z
LAST-MODIFIED:20260417T133936Z
UID:10002866-1785938400-1785945600@gl3communityhub.org.uk
SUMMARY:Knit & Natter
DESCRIPTION:Wednesday – Social Group – 2.00pm – 4.00pm
URL:https://gl3communityhub.org.uk/event/knit-natter/2026-08-05/
LOCATION:GL3 Community Hub\, Cheltenham Road East\, Churchdown\, Gloucester\, GL3 1HX\, United Kingdom
CATEGORIES:Support & Wellbeing
END:VEVENT
BEGIN:VEVENT
DTSTART;TZID=Europe/London:20260805T190000
DTEND;TZID=Europe/London:20260805T213000
DTSTAMP:20260422T181541
CREATED:20260417T131439Z
LAST-MODIFIED:20260417T131439Z
UID:10000016-1785956400-1785965400@gl3communityhub.org.uk
SUMMARY:Man Down – Men’s Mental Health Group
DESCRIPTION:
URL:https://gl3communityhub.org.uk/event/man-down-mens-mental-health-group/2026-08-05/
CATEGORIES:Support & Wellbeing
END:VEVENT
BEGIN:VEVENT
DTSTART;TZID=Europe/London:20260806T100000
DTEND;TZID=Europe/London:20260806T120000
DTSTAMP:20260422T181541
CREATED:20260417T133330Z
LAST-MODIFIED:20260417T133330Z
UID:10001582-1786010400-1786017600@gl3communityhub.org.uk
SUMMARY:Bromford Housing Drop-In
DESCRIPTION:Thursday – Housing Advice – 10.00am – 12.00pm
URL:https://gl3communityhub.org.uk/event/bromford-housing-drop-in/2026-08-06/
LOCATION:GL3 Community Hub\, Cheltenham Road East\, Churchdown\, Gloucester\, GL3 1HX\, United Kingdom
CATEGORIES:Support & Wellbeing
END:VEVENT
BEGIN:VEVENT
DTSTART;TZID=Europe/London:20260806T110000
DTEND;TZID=Europe/London:20260806T130000
DTSTAMP:20260422T181541
CREATED:20260417T133247Z
LAST-MODIFIED:20260417T133247Z
UID:10001321-1786014000-1786021200@gl3communityhub.org.uk
SUMMARY:Hungry No More Foodbank
DESCRIPTION:Thursday – Food Support (Assessment Required) – 11.00am – 1.00pm
URL:https://gl3communityhub.org.uk/event/hungry-no-more-foodbank/2026-08-06/
LOCATION:GL3 Community Hub\, Cheltenham Road East\, Churchdown\, Gloucester\, GL3 1HX\, United Kingdom
CATEGORIES:Support & Wellbeing
END:VEVENT
BEGIN:VEVENT
DTSTART;TZID=Europe/London:20260806T140000
DTEND;TZID=Europe/London:20260806T160000
DTSTAMP:20260422T181541
CREATED:20260417T133753Z
LAST-MODIFIED:20260417T133753Z
UID:10002272-1786024800-1786032000@gl3communityhub.org.uk
SUMMARY:First Thursday Group
DESCRIPTION:Thursday (1st) – Social Group (Older Adults) – 2.00pm – 4.00pm
URL:https://gl3communityhub.org.uk/event/first-thursday-group/2026-08-06/
LOCATION:GL3 Community Hub\, Cheltenham Road East\, Churchdown\, Gloucester\, GL3 1HX\, United Kingdom
CATEGORIES:Support & Wellbeing
END:VEVENT
BEGIN:VEVENT
DTSTART;TZID=Europe/London:20260806T193000
DTEND;TZID=Europe/London:20260806T213000
DTSTAMP:20260422T181541
CREATED:20260417T133001Z
LAST-MODIFIED:20260417T133042Z
UID:10000799-1786044600-1786051800@gl3communityhub.org.uk
SUMMARY:Gloucestershire Gamblers Anonymous
DESCRIPTION:Monday (Except Bank Holidays) – Support Group – 7.00pm – 9.00pm\nThursday – Support Group – 7.30pm – 9.30pm
URL:https://gl3communityhub.org.uk/event/gloucestershire-gamblers-anonymous-thursday/2026-08-06/
LOCATION:GL3 Community Hub\, Cheltenham Road East\, Churchdown\, Gloucester\, GL3 1HX\, United Kingdom
CATEGORIES:Support & Wellbeing
END:VEVENT
BEGIN:VEVENT
DTSTART;TZID=Europe/London:20260809T183000
DTEND;TZID=Europe/London:20260809T203000
DTSTAMP:20260422T181541
CREATED:20260417T133214Z
LAST-MODIFIED:20260417T133214Z
UID:10001061-1786300200-1786307400@gl3communityhub.org.uk
SUMMARY:Alcoholics Anonymous
DESCRIPTION:Sunday – Support Group – 6.30pm – 8.30pm
URL:https://gl3communityhub.org.uk/event/alcoholics-anonymous/2026-08-09/
LOCATION:GL3 Community Hub\, Cheltenham Road East\, Churchdown\, Gloucester\, GL3 1HX\, United Kingdom
CATEGORIES:Support & Wellbeing
END:VEVENT
BEGIN:VEVENT
DTSTART;TZID=Europe/London:20260810T190000
DTEND;TZID=Europe/London:20260810T210000
DTSTAMP:20260422T181541
CREATED:20260417T132916Z
LAST-MODIFIED:20260417T132932Z
UID:10000278-1786388400-1786395600@gl3communityhub.org.uk
SUMMARY:Gloucestershire Gamblers Anonymous
DESCRIPTION:Monday (Except Bank Holidays) – Support Group – 7.00pm – 9.00pm\nThursday – Support Group – 7.30pm – 9.30pm
URL:https://gl3communityhub.org.uk/event/gloucestershire-gamblers-anonymous-monday/2026-08-10/
LOCATION:GL3 Community Hub\, Cheltenham Road East\, Churchdown\, Gloucester\, GL3 1HX\, United Kingdom
CATEGORIES:Support & Wellbeing
END:VEVENT
BEGIN:VEVENT
DTSTART;TZID=Europe/London:20260811T100000
DTEND;TZID=Europe/London:20260811T110000
DTSTAMP:20260422T181541
CREATED:20260417T133853Z
LAST-MODIFIED:20260417T133853Z
UID:10002606-1786442400-1786446000@gl3communityhub.org.uk
SUMMARY:Tuesday Walkers
DESCRIPTION:Tuesday – Social Walking Group (Meet Outside) – 10.00am – 11.00am
URL:https://gl3communityhub.org.uk/event/tuesday-walkers/2026-08-11/
LOCATION:GL3 Community Hub\, Cheltenham Road East\, Churchdown\, Gloucester\, GL3 1HX\, United Kingdom
CATEGORIES:Support & Wellbeing
END:VEVENT
BEGIN:VEVENT
DTSTART;TZID=Europe/London:20260812T100000
DTEND;TZID=Europe/London:20260812T120000
DTSTAMP:20260422T181541
CREATED:20260417T133722Z
LAST-MODIFIED:20260417T133722Z
UID:10002024-1786528800-1786536000@gl3communityhub.org.uk
SUMMARY:Breastfeeding Support Network
DESCRIPTION:Wednesday – Parent & Baby Support – 10.00am – 12.00pm
URL:https://gl3communityhub.org.uk/event/breastfeeding-support-network/2026-08-12/
LOCATION:GL3 Community Hub\, Cheltenham Road East\, Churchdown\, Gloucester\, GL3 1HX\, United Kingdom
CATEGORIES:Support & Wellbeing
END:VEVENT
BEGIN:VEVENT
DTSTART;TZID=Europe/London:20260812T123000
DTEND;TZID=Europe/London:20260812T143000
DTSTAMP:20260422T181541
CREATED:20260417T133825Z
LAST-MODIFIED:20260417T133825Z
UID:10002345-1786537800-1786545000@gl3communityhub.org.uk
SUMMARY:Wellbeing Wednesdays
DESCRIPTION:Wednesday – Social & Wellbeing Activities – 12.30pm – 2.30pm
URL:https://gl3communityhub.org.uk/event/wellbeing-wednesdays/2026-08-12/
LOCATION:GL3 Community Hub\, Cheltenham Road East\, Churchdown\, Gloucester\, GL3 1HX\, United Kingdom
CATEGORIES:Support & Wellbeing
END:VEVENT
BEGIN:VEVENT
DTSTART;TZID=Europe/London:20260812T140000
DTEND;TZID=Europe/London:20260812T160000
DTSTAMP:20260422T181541
CREATED:20260417T133936Z
LAST-MODIFIED:20260417T133936Z
UID:10002867-1786543200-1786550400@gl3communityhub.org.uk
SUMMARY:Knit & Natter
DESCRIPTION:Wednesday – Social Group – 2.00pm – 4.00pm
URL:https://gl3communityhub.org.uk/event/knit-natter/2026-08-12/
LOCATION:GL3 Community Hub\, Cheltenham Road East\, Churchdown\, Gloucester\, GL3 1HX\, United Kingdom
CATEGORIES:Support & Wellbeing
END:VEVENT
BEGIN:VEVENT
DTSTART;TZID=Europe/London:20260812T190000
DTEND;TZID=Europe/London:20260812T213000
DTSTAMP:20260422T181541
CREATED:20260417T131439Z
LAST-MODIFIED:20260417T131439Z
UID:10000017-1786561200-1786570200@gl3communityhub.org.uk
SUMMARY:Man Down – Men’s Mental Health Group
DESCRIPTION:
URL:https://gl3communityhub.org.uk/event/man-down-mens-mental-health-group/2026-08-12/
CATEGORIES:Support & Wellbeing
END:VEVENT
BEGIN:VEVENT
DTSTART;TZID=Europe/London:20260813T100000
DTEND;TZID=Europe/London:20260813T120000
DTSTAMP:20260422T181541
CREATED:20260417T133330Z
LAST-MODIFIED:20260417T133330Z
UID:10001583-1786615200-1786622400@gl3communityhub.org.uk
SUMMARY:Bromford Housing Drop-In
DESCRIPTION:Thursday – Housing Advice – 10.00am – 12.00pm
URL:https://gl3communityhub.org.uk/event/bromford-housing-drop-in/2026-08-13/
LOCATION:GL3 Community Hub\, Cheltenham Road East\, Churchdown\, Gloucester\, GL3 1HX\, United Kingdom
CATEGORIES:Support & Wellbeing
END:VEVENT
BEGIN:VEVENT
DTSTART;TZID=Europe/London:20260813T110000
DTEND;TZID=Europe/London:20260813T130000
DTSTAMP:20260422T181541
CREATED:20260417T133247Z
LAST-MODIFIED:20260417T133247Z
UID:10001322-1786618800-1786626000@gl3communityhub.org.uk
SUMMARY:Hungry No More Foodbank
DESCRIPTION:Thursday – Food Support (Assessment Required) – 11.00am – 1.00pm
URL:https://gl3communityhub.org.uk/event/hungry-no-more-foodbank/2026-08-13/
LOCATION:GL3 Community Hub\, Cheltenham Road East\, Churchdown\, Gloucester\, GL3 1HX\, United Kingdom
CATEGORIES:Support & Wellbeing
END:VEVENT
END:VCALENDAR