BEGIN:VCALENDAR
VERSION:2.0
PRODID:-//GL3 Community Hub - ECPv6.15.20//NONSGML v1.0//EN
CALSCALE:GREGORIAN
METHOD:PUBLISH
X-WR-CALNAME:GL3 Community Hub
X-ORIGINAL-URL:https://gl3communityhub.org.uk
X-WR-CALDESC:Events for GL3 Community Hub
REFRESH-INTERVAL;VALUE=DURATION:PT1H
X-Robots-Tag:noindex
X-PUBLISHED-TTL:PT1H
BEGIN:VTIMEZONE
TZID:Europe/London
BEGIN:DAYLIGHT
TZOFFSETFROM:+0000
TZOFFSETTO:+0100
TZNAME:BST
DTSTART:20250330T010000
END:DAYLIGHT
BEGIN:STANDARD
TZOFFSETFROM:+0100
TZOFFSETTO:+0000
TZNAME:GMT
DTSTART:20251026T010000
END:STANDARD
BEGIN:DAYLIGHT
TZOFFSETFROM:+0000
TZOFFSETTO:+0100
TZNAME:BST
DTSTART:20260329T010000
END:DAYLIGHT
BEGIN:STANDARD
TZOFFSETFROM:+0100
TZOFFSETTO:+0000
TZNAME:GMT
DTSTART:20261025T010000
END:STANDARD
BEGIN:DAYLIGHT
TZOFFSETFROM:+0000
TZOFFSETTO:+0100
TZNAME:BST
DTSTART:20270328T010000
END:DAYLIGHT
BEGIN:STANDARD
TZOFFSETFROM:+0100
TZOFFSETTO:+0000
TZNAME:GMT
DTSTART:20271031T010000
END:STANDARD
END:VTIMEZONE
BEGIN:VEVENT
DTSTART;TZID=Europe/London:20260611T100000
DTEND;TZID=Europe/London:20260611T120000
DTSTAMP:20260421T163806
CREATED:20260417T133330Z
LAST-MODIFIED:20260417T133330Z
UID:10001574-1781172000-1781179200@gl3communityhub.org.uk
SUMMARY:Bromford Housing Drop-In
DESCRIPTION:Thursday – Housing Advice – 10.00am – 12.00pm
URL:https://gl3communityhub.org.uk/event/bromford-housing-drop-in/2026-06-11/
LOCATION:GL3 Community Hub\, Cheltenham Road East\, Churchdown\, Gloucester\, GL3 1HX\, United Kingdom
CATEGORIES:Support & Wellbeing
END:VEVENT
BEGIN:VEVENT
DTSTART;TZID=Europe/London:20260611T110000
DTEND;TZID=Europe/London:20260611T130000
DTSTAMP:20260421T163806
CREATED:20260417T133247Z
LAST-MODIFIED:20260417T133247Z
UID:10001313-1781175600-1781182800@gl3communityhub.org.uk
SUMMARY:Hungry No More Foodbank
DESCRIPTION:Thursday – Food Support (Assessment Required) – 11.00am – 1.00pm
URL:https://gl3communityhub.org.uk/event/hungry-no-more-foodbank/2026-06-11/
LOCATION:GL3 Community Hub\, Cheltenham Road East\, Churchdown\, Gloucester\, GL3 1HX\, United Kingdom
CATEGORIES:Support & Wellbeing
END:VEVENT
BEGIN:VEVENT
DTSTART;TZID=Europe/London:20260611T130000
DTEND;TZID=Europe/London:20260611T140000
DTSTAMP:20260421T163806
CREATED:20260417T133549Z
LAST-MODIFIED:20260417T133639Z
UID:10001949-1781182800-1781186400@gl3communityhub.org.uk
SUMMARY:Caring for Communities & People Drop-In
DESCRIPTION:Thursday (2nd & 4th) – Housing & Financial Support – 1.00pm – 2.00pm
URL:https://gl3communityhub.org.uk/event/caring-for-communities-people-drop-in-2t/2026-06-11/
LOCATION:GL3 Community Hub\, Cheltenham Road East\, Churchdown\, Gloucester\, GL3 1HX\, United Kingdom
CATEGORIES:Support & Wellbeing
END:VEVENT
BEGIN:VEVENT
DTSTART;TZID=Europe/London:20260611T193000
DTEND;TZID=Europe/London:20260611T213000
DTSTAMP:20260421T163806
CREATED:20260417T133001Z
LAST-MODIFIED:20260417T133042Z
UID:10000791-1781206200-1781213400@gl3communityhub.org.uk
SUMMARY:Gloucestershire Gamblers Anonymous
DESCRIPTION:Monday (Except Bank Holidays) – Support Group – 7.00pm – 9.00pm\nThursday – Support Group – 7.30pm – 9.30pm
URL:https://gl3communityhub.org.uk/event/gloucestershire-gamblers-anonymous-thursday/2026-06-11/
LOCATION:GL3 Community Hub\, Cheltenham Road East\, Churchdown\, Gloucester\, GL3 1HX\, United Kingdom
CATEGORIES:Support & Wellbeing
END:VEVENT
END:VCALENDAR