BEGIN:VCALENDAR
VERSION:2.0
PRODID:-//GL3 Community Hub - ECPv6.15.20//NONSGML v1.0//EN
CALSCALE:GREGORIAN
METHOD:PUBLISH
X-WR-CALNAME:GL3 Community Hub
X-ORIGINAL-URL:https://gl3communityhub.org.uk
X-WR-CALDESC:Events for GL3 Community Hub
REFRESH-INTERVAL;VALUE=DURATION:PT1H
X-Robots-Tag:noindex
X-PUBLISHED-TTL:PT1H
BEGIN:VTIMEZONE
TZID:Europe/London
BEGIN:DAYLIGHT
TZOFFSETFROM:+0000
TZOFFSETTO:+0100
TZNAME:BST
DTSTART:20250330T010000
END:DAYLIGHT
BEGIN:STANDARD
TZOFFSETFROM:+0100
TZOFFSETTO:+0000
TZNAME:GMT
DTSTART:20251026T010000
END:STANDARD
BEGIN:DAYLIGHT
TZOFFSETFROM:+0000
TZOFFSETTO:+0100
TZNAME:BST
DTSTART:20260329T010000
END:DAYLIGHT
BEGIN:STANDARD
TZOFFSETFROM:+0100
TZOFFSETTO:+0000
TZNAME:GMT
DTSTART:20261025T010000
END:STANDARD
BEGIN:DAYLIGHT
TZOFFSETFROM:+0000
TZOFFSETTO:+0100
TZNAME:BST
DTSTART:20270328T010000
END:DAYLIGHT
BEGIN:STANDARD
TZOFFSETFROM:+0100
TZOFFSETTO:+0000
TZNAME:GMT
DTSTART:20271031T010000
END:STANDARD
END:VTIMEZONE
BEGIN:VEVENT
DTSTART;TZID=Europe/London:20260429T100000
DTEND;TZID=Europe/London:20260429T120000
DTSTAMP:20260421T130002
CREATED:20260417T133722Z
LAST-MODIFIED:20260417T133722Z
UID:10002009-1777456800-1777464000@gl3communityhub.org.uk
SUMMARY:Breastfeeding Support Network
DESCRIPTION:Wednesday – Parent & Baby Support – 10.00am – 12.00pm
URL:https://gl3communityhub.org.uk/event/breastfeeding-support-network/2026-04-29/
LOCATION:GL3 Community Hub\, Cheltenham Road East\, Churchdown\, Gloucester\, GL3 1HX\, United Kingdom
CATEGORIES:Support & Wellbeing
END:VEVENT
BEGIN:VEVENT
DTSTART;TZID=Europe/London:20260429T123000
DTEND;TZID=Europe/London:20260429T143000
DTSTAMP:20260421T130002
CREATED:20260417T133825Z
LAST-MODIFIED:20260417T133825Z
UID:10002330-1777465800-1777473000@gl3communityhub.org.uk
SUMMARY:Wellbeing Wednesdays
DESCRIPTION:Wednesday – Social & Wellbeing Activities – 12.30pm – 2.30pm
URL:https://gl3communityhub.org.uk/event/wellbeing-wednesdays/2026-04-29/
LOCATION:GL3 Community Hub\, Cheltenham Road East\, Churchdown\, Gloucester\, GL3 1HX\, United Kingdom
CATEGORIES:Support & Wellbeing
END:VEVENT
BEGIN:VEVENT
DTSTART;TZID=Europe/London:20260429T140000
DTEND;TZID=Europe/London:20260429T160000
DTSTAMP:20260421T130002
CREATED:20260417T133936Z
LAST-MODIFIED:20260417T133936Z
UID:10002852-1777471200-1777478400@gl3communityhub.org.uk
SUMMARY:Knit & Natter
DESCRIPTION:Wednesday – Social Group – 2.00pm – 4.00pm
URL:https://gl3communityhub.org.uk/event/knit-natter/2026-04-29/
LOCATION:GL3 Community Hub\, Cheltenham Road East\, Churchdown\, Gloucester\, GL3 1HX\, United Kingdom
CATEGORIES:Support & Wellbeing
END:VEVENT
BEGIN:VEVENT
DTSTART;TZID=Europe/London:20260429T190000
DTEND;TZID=Europe/London:20260429T213000
DTSTAMP:20260421T130002
CREATED:20260417T131439Z
LAST-MODIFIED:20260417T131439Z
UID:10000002-1777489200-1777498200@gl3communityhub.org.uk
SUMMARY:Man Down – Men’s Mental Health Group
DESCRIPTION:
URL:https://gl3communityhub.org.uk/event/man-down-mens-mental-health-group/2026-04-29/
CATEGORIES:Support & Wellbeing
END:VEVENT
END:VCALENDAR