BEGIN:VCALENDAR
VERSION:2.0
PRODID:-//GL3 Community Hub - ECPv6.15.20//NONSGML v1.0//EN
CALSCALE:GREGORIAN
METHOD:PUBLISH
X-ORIGINAL-URL:https://gl3communityhub.org.uk
X-WR-CALDESC:Events for GL3 Community Hub
REFRESH-INTERVAL;VALUE=DURATION:PT1H
X-Robots-Tag:noindex
X-PUBLISHED-TTL:PT1H
BEGIN:VTIMEZONE
TZID:Europe/London
BEGIN:DAYLIGHT
TZOFFSETFROM:+0000
TZOFFSETTO:+0100
TZNAME:BST
DTSTART:20250330T010000
END:DAYLIGHT
BEGIN:STANDARD
TZOFFSETFROM:+0100
TZOFFSETTO:+0000
TZNAME:GMT
DTSTART:20251026T010000
END:STANDARD
BEGIN:DAYLIGHT
TZOFFSETFROM:+0000
TZOFFSETTO:+0100
TZNAME:BST
DTSTART:20260329T010000
END:DAYLIGHT
BEGIN:STANDARD
TZOFFSETFROM:+0100
TZOFFSETTO:+0000
TZNAME:GMT
DTSTART:20261025T010000
END:STANDARD
BEGIN:DAYLIGHT
TZOFFSETFROM:+0000
TZOFFSETTO:+0100
TZNAME:BST
DTSTART:20270328T010000
END:DAYLIGHT
BEGIN:STANDARD
TZOFFSETFROM:+0100
TZOFFSETTO:+0000
TZNAME:GMT
DTSTART:20271031T010000
END:STANDARD
END:VTIMEZONE
BEGIN:VEVENT
DTSTART;TZID=Europe/London:20260504T090000
DTEND;TZID=Europe/London:20260504T160000
DTSTAMP:20260423T094424
CREATED:20260417T134205Z
LAST-MODIFIED:20260417T134205Z
UID:10003114-1777885200-1777910400@gl3communityhub.org.uk
SUMMARY:Tumble Tots
DESCRIPTION:Monday – Children’s Activity – 9.00am – 4.00pm \nThis is a recurring weekly activity that appears on the website every Monday. Please note that sessions only take place during school term time. The listing may still display during holidays due to its recurring nature\, but the activity will not be running outside of term time. 
URL:https://gl3communityhub.org.uk/event/tumble-tots/2026-05-04/
LOCATION:GL3 Community Hub\, Cheltenham Road East\, Churchdown\, Gloucester\, GL3 1HX\, United Kingdom
CATEGORIES:Family & Young People*
END:VEVENT
BEGIN:VEVENT
DTSTART;TZID=Europe/London:20260504T170000
DTEND;TZID=Europe/London:20260504T200000
DTSTAMP:20260423T094424
CREATED:20260417T142104Z
LAST-MODIFIED:20260417T142120Z
UID:10005722-1777914000-1777924800@gl3communityhub.org.uk
SUMMARY:Mixed Martial Arts
DESCRIPTION:Monday – Junior & Adult Training – 5.00pm – 8.00pm\nSaturday – Junior & Adult Training – 9.00am – 12.45pm
URL:https://gl3communityhub.org.uk/event/mixed-martial-arts-mon/2026-05-04/
LOCATION:GL3 Community Hub\, Cheltenham Road East\, Churchdown\, Gloucester\, GL3 1HX\, United Kingdom
CATEGORIES:Sports & Activities
END:VEVENT
BEGIN:VEVENT
DTSTART;TZID=Europe/London:20260504T190000
DTEND;TZID=Europe/London:20260504T210000
DTSTAMP:20260423T094424
CREATED:20260417T132916Z
LAST-MODIFIED:20260417T132932Z
UID:10000264-1777921200-1777928400@gl3communityhub.org.uk
SUMMARY:Gloucestershire Gamblers Anonymous
DESCRIPTION:Monday (Except Bank Holidays) – Support Group – 7.00pm – 9.00pm\nThursday – Support Group – 7.30pm – 9.30pm
URL:https://gl3communityhub.org.uk/event/gloucestershire-gamblers-anonymous-monday/2026-05-04/
LOCATION:GL3 Community Hub\, Cheltenham Road East\, Churchdown\, Gloucester\, GL3 1HX\, United Kingdom
CATEGORIES:Support & Wellbeing
END:VEVENT
BEGIN:VEVENT
DTSTART;TZID=Europe/London:20260504T201000
DTEND;TZID=Europe/London:20260504T220000
DTSTAMP:20260423T094424
CREATED:20260417T142357Z
LAST-MODIFIED:20260417T142357Z
UID:10006766-1777925400-1777932000@gl3communityhub.org.uk
SUMMARY:Volleyball Group
DESCRIPTION:Monday – Recreational Volleyball – 8.10pm – 10.00pm
URL:https://gl3communityhub.org.uk/event/volleyball-group/2026-05-04/
LOCATION:GL3 Community Hub\, Cheltenham Road East\, Churchdown\, Gloucester\, GL3 1HX\, United Kingdom
CATEGORIES:Sports & Activities
END:VEVENT
END:VCALENDAR