BEGIN:VCALENDAR
VERSION:2.0
PRODID:-//GL3 Community Hub - ECPv6.15.20//NONSGML v1.0//EN
CALSCALE:GREGORIAN
METHOD:PUBLISH
X-WR-CALNAME:GL3 Community Hub
X-ORIGINAL-URL:https://gl3communityhub.org.uk
X-WR-CALDESC:Events for GL3 Community Hub
REFRESH-INTERVAL;VALUE=DURATION:PT1H
X-Robots-Tag:noindex
X-PUBLISHED-TTL:PT1H
BEGIN:VTIMEZONE
TZID:Europe/London
BEGIN:DAYLIGHT
TZOFFSETFROM:+0000
TZOFFSETTO:+0100
TZNAME:BST
DTSTART:20250330T010000
END:DAYLIGHT
BEGIN:STANDARD
TZOFFSETFROM:+0100
TZOFFSETTO:+0000
TZNAME:GMT
DTSTART:20251026T010000
END:STANDARD
BEGIN:DAYLIGHT
TZOFFSETFROM:+0000
TZOFFSETTO:+0100
TZNAME:BST
DTSTART:20260329T010000
END:DAYLIGHT
BEGIN:STANDARD
TZOFFSETFROM:+0100
TZOFFSETTO:+0000
TZNAME:GMT
DTSTART:20261025T010000
END:STANDARD
BEGIN:DAYLIGHT
TZOFFSETFROM:+0000
TZOFFSETTO:+0100
TZNAME:BST
DTSTART:20270328T010000
END:DAYLIGHT
BEGIN:STANDARD
TZOFFSETFROM:+0100
TZOFFSETTO:+0000
TZNAME:GMT
DTSTART:20271031T010000
END:STANDARD
END:VTIMEZONE
BEGIN:VEVENT
DTSTART;TZID=Europe/London:20260425T090000
DTEND;TZID=Europe/London:20260425T124500
DTSTAMP:20260421T122637
CREATED:20260417T142125Z
LAST-MODIFIED:20260417T142227Z
UID:10006243-1777107600-1777121100@gl3communityhub.org.uk
SUMMARY:Mixed Martial Arts
DESCRIPTION:Monday – Junior & Adult Training – 5.00pm – 8.00pm\nSaturday – Junior & Adult Training – 9.00am – 12.45pm
URL:https://gl3communityhub.org.uk/event/mixed-martial-arts-sat/2026-04-25/
LOCATION:GL3 Community Hub\, Cheltenham Road East\, Churchdown\, Gloucester\, GL3 1HX\, United Kingdom
CATEGORIES:Sports & Activities
END:VEVENT
BEGIN:VEVENT
DTSTART;TZID=Europe/London:20260425T093000
DTEND;TZID=Europe/London:20260425T101500
DTSTAMP:20260421T122637
CREATED:20260417T150611Z
LAST-MODIFIED:20260417T151320Z
UID:10010679-1777109400-1777112100@gl3communityhub.org.uk
SUMMARY:Cath’s Classes - Dance Fitness
DESCRIPTION:Tuesday – Dance Fitness Gold (Gentle) – 11.00am – 11.45am\nTuesday – Dance Fitness – 6.15pm – 7.00pm\nTuesday – Stretch\, Tone & Mobilise – 7.15pm – 8.00pm\nThursday – Dance Fitness Gold (Gentle) – 10.00am – 10.45am\nThursday – Dance Fitness – 6.00pm – 7.00pm\nThursday – Stretch\, Tone & Mobilise – 7.15pm – 8.00pm\nSaturday – Dance Fitness – 9.30am – 10.15am
URL:https://gl3communityhub.org.uk/event/caths-classes-dance-fitness-sat/2026-04-25/
CATEGORIES:Health, Fitness & Classes
END:VEVENT
END:VCALENDAR